BEGIN:VCALENDAR
VERSION:2.0
PRODID:-//Одеський літературний музей - ECPv5.4.0.2//NONSGML v1.0//EN
CALSCALE:GREGORIAN
METHOD:PUBLISH
X-WR-CALNAME:Одеський літературний музей
X-ORIGINAL-URL:https://museum-literature.odessa.ua
X-WR-CALDESC:Події за Одеський літературний музей
BEGIN:VTIMEZONE
TZID:UTC
BEGIN:STANDARD
TZOFFSETFROM:+0000
TZOFFSETTO:+0000
TZNAME:UTC
DTSTART:20190101T000000
END:STANDARD
END:VTIMEZONE
BEGIN:VEVENT
DTSTART;VALUE=DATE:20190216
DTEND;VALUE=DATE:20190714
DTSTAMP:20260421T231943
CREATED:20190528T075847Z
LAST-MODIFIED:20190711T202648Z
UID:17212-1550275200-1563062399@museum-literature.odessa.ua
SUMMARY:Авторські вечори Олени Каракіної «Поговорим о странностях любви»
DESCRIPTION:Одеський літературний музей відновлює проект «Поговорим о странностях любви» з Оленою Каракіною\n\nСвого часу одноіменна телепрограма змогла здобути любов широкої аудиторії\, і тепер Літературний музей пропонує її в зміненому форматі — відкритої розмови: безпосереднього та живого спілкування. Як і раніше\, мова піде про закоханість й любов служителів муз та про муз\, які їх надихали. Про письменників та письменниць\, поетів та поетес. Про їх долю та їх книги.\nЗвісно\, зустріч в музеї триватиме довше телевізійної. \nДавайте поговоримо про дивацтва любові .. та не тільки про них.\nПо суботах\, в Одеському літературному музеї. \n16 лютого  «Влюблённый Валентин. Влюбленный в Валентину». Пристрастия и страсти\nбратьев Катаевых. \n16 березня  «Мой псевдоним и жизнь моя — «Качели». Поэт и воин Владимир Жаботинский \n20 квітня  «Тайны «Золотого ключика»».  А.Н. Толстой\, литературная расправа и расплата. \n18 травня «Три сестры. Не по Чехову». Сёстры Суок — жёны и прототипы. \n15 червня  «Одесские связи».  А.С. Пушкин и три влюбленности в Одессе. \n13 липня   «Они женятся\, чтобы не быть одинокими…».  Исаак Бабель\, который не мог быть не\nженат. \nПрем’єра проекту відбудеться 16 лютого 2019 в 16: 00 у палаці князів Гагаріних\, Ланжеронівська\, 2. \nЗ Одеського літературного музею з любов’ю \n\n\n\n\n\n\n\n\n\n\n\n\n\n\n\n\n	Квитки у касі музею.
URL:https://museum-literature.odessa.ua/events/avtorski-vechory-oleny-karakinoyi-pogovorym-o-strannostyah-lyubvy/
CATEGORIES:Музей
ATTACH;FMTTYPE=image/jpeg:https://museum-literature.odessa.ua/wp-content/uploads/2019/05/avtorski-vechory-oleny-karakinoyi-ua.jpg
END:VEVENT
END:VCALENDAR