BEGIN:VCALENDAR
VERSION:2.0
PRODID:-//Одеський літературний музей - ECPv5.4.0.2//NONSGML v1.0//EN
CALSCALE:GREGORIAN
METHOD:PUBLISH
X-WR-CALNAME:Одеський літературний музей
X-ORIGINAL-URL:https://museum-literature.odessa.ua
X-WR-CALDESC:Події за Одеський літературний музей
BEGIN:VTIMEZONE
TZID:Europe/Kiev
BEGIN:DAYLIGHT
TZOFFSETFROM:+0200
TZOFFSETTO:+0300
TZNAME:EEST
DTSTART:20210328T010000
END:DAYLIGHT
BEGIN:STANDARD
TZOFFSETFROM:+0300
TZOFFSETTO:+0200
TZNAME:EET
DTSTART:20211031T010000
END:STANDARD
BEGIN:DAYLIGHT
TZOFFSETFROM:+0200
TZOFFSETTO:+0300
TZNAME:EEST
DTSTART:20220327T010000
END:DAYLIGHT
BEGIN:STANDARD
TZOFFSETFROM:+0300
TZOFFSETTO:+0200
TZNAME:EET
DTSTART:20221030T010000
END:STANDARD
END:VTIMEZONE
BEGIN:VEVENT
DTSTART;TZID=Europe/Kiev:20211217T100000
DTEND;TZID=Europe/Kiev:20220117T170000
DTSTAMP:20260422T055254
CREATED:20211216T140430Z
LAST-MODIFIED:20211216T140430Z
UID:29395-1639735200-1642438800@museum-literature.odessa.ua
SUMMARY:«Бабусина ялинка» виставка старовинних ялинкових прикрас
DESCRIPTION:Меморіальний музей К.Г. Паустовського запрошує дорослих та малят на виставку  старовинних ялинкових прикрас – «Бабусина ялинка». \nНа виставці представлені новорічні ялинкові прикраси\, виготовлені в ХХ сторіччі. \nВиставка працює з 17 грудня 2021 року до 17 січня 2022 року. \nНагадуємо\, що вхід до музею можливий тільки за наявності сертифікату про щеплення від коронавірусу Covid-19 та захисної маски. \n  \nАдреса музею: вул. Чорноморська\, 6 \nтел. 731-45-97\, 722 84 47 \nВихідний день – понеділок.
URL:https://museum-literature.odessa.ua/events/babusina-yalinka-vistavka-starovinnih-yalinkovih-prikras/
LOCATION:Меморіальний музей К. Г. Паустовського\, м. Одеса\, вул. Чорноморська\, 6.\, м. Одеса\, вул. Чорноморська\, 6.\, Украина
ATTACH;FMTTYPE=image/jpeg:https://museum-literature.odessa.ua/wp-content/uploads/2021/12/20211212_150343-scaled.jpg
END:VEVENT
END:VCALENDAR