BEGIN:VCALENDAR
VERSION:2.0
PRODID:-//Одеський літературний музей - ECPv5.4.0.2//NONSGML v1.0//EN
CALSCALE:GREGORIAN
METHOD:PUBLISH
X-WR-CALNAME:Одеський літературний музей
X-ORIGINAL-URL:https://museum-literature.odessa.ua
X-WR-CALDESC:Події за Одеський літературний музей
BEGIN:VTIMEZONE
TZID:Australia/Adelaide
BEGIN:STANDARD
TZOFFSETFROM:+1030
TZOFFSETTO:+0930
TZNAME:ACST
DTSTART:20240406T163000
END:STANDARD
BEGIN:DAYLIGHT
TZOFFSETFROM:+0930
TZOFFSETTO:+1030
TZNAME:ACDT
DTSTART:20241005T163000
END:DAYLIGHT
END:VTIMEZONE
BEGIN:VEVENT
DTSTART;TZID=Australia/Adelaide:20240920T150000
DTEND;TZID=Australia/Adelaide:20240920T160000
DTSTAMP:20260421T114836
CREATED:20240917T105137Z
LAST-MODIFIED:20240917T132241Z
UID:38828-1726844400-1726848000@museum-literature.odessa.ua
SUMMARY:«…доки з імли на Світло пішки не дійшла» презентація поетичної збірки поета Регіни Дерієвої
DESCRIPTION:Дорогі друзі ми запрошуємо вас 20 вересня о 15:00 в Одеський Літературний музей на презентацію поетичної збірки поета Регіни Дерієвої «Вибрані хмари» (у межах проекту «Недільні зустрічі») \nНе кожен день до Одеси повертається поезія світового рівня. Особливо\, якщо вона родом з Одеси. Особливо під час війни. \nРегіна Дерієва (1949\, Одеса – 2013\, Стокгольм) є визначним поетом на перетині століть. Вона народилася в Одесі. В 1960 році з родиною переїхала до Казахстану. З 1991 року Дерієва мешкала в Ізраїлі\, з 1999 року в Швеції. Вона є авторкою двох десятків книжок віршів\, прози\, есе\, перекладів. Її твори перекладено англійською\, французькою\, італійською\, шведською\, арабською\, китайською та іншими мовами. \n  \nАвстралійський поет Лес Маррей: \n«Дерієва пройшла сувору школу\, але темряві не поступилася. Вона знає гірку правду всередині кожного з нас. Її точні вірші ніколи не відходять від цієї орієнтації». \n  \nБританський поет Тім Ліардет: \n«Лише деякі поети домагаються такого роду перетворення в кількох словах». \n  \nШведський поет Аріс Фіоретос: \n«Дерієва поєднує глибину душі з чудовою відсутністю сентиментальності\, справжнє усвідомлення традиції з тверезістю. Лише в цьому разі метою читання стає не щось передбачуване\, але необхідне потрясіння». \n  \nПоетична збірка Регіни Дерієвої «Вибрані хмари» (переклад Олександра Хінта) є її першим виданням в Україні. \n  \nНа презентації ви почуєте факти біографії поета\, побачите відео- і фотоматеріали. \nСпіває наш улюблений бард Ангеліна Кузнецова. \nВірші Регіни Дерієвої читають Анна Стремінська і Олександр Хінт. \n  \nДЕ: вул. Ланжеронівська\, 2. \nКОЛИ: 20 вересня о 15:00. \nВХІД ВІЛЬНИЙ. \nПодробиці за номером +38 (048) 722-33-70.
URL:https://museum-literature.odessa.ua/events/doki-z-imli-na-svitlo-pishki-ne-dijshla-prezentatsiyu-poetichnoyi-zbirki-poeta-regini-deriyevoyi/
LOCATION:Одеський літературній музей\, вул. Ланжеронівська \, 2\, м. Одеса\, Україна
ATTACH;FMTTYPE=image/jpeg:https://museum-literature.odessa.ua/wp-content/uploads/2024/09/DERIEVA-9.jpg
END:VEVENT
END:VCALENDAR