BEGIN:VCALENDAR
VERSION:2.0
PRODID:-//Одеський літературний музей - ECPv5.4.0.2//NONSGML v1.0//EN
CALSCALE:GREGORIAN
METHOD:PUBLISH
X-WR-CALNAME:Одеський літературний музей
X-ORIGINAL-URL:https://museum-literature.odessa.ua
X-WR-CALDESC:Події за Одеський літературний музей
BEGIN:VTIMEZONE
TZID:Europe/Kiev
BEGIN:DAYLIGHT
TZOFFSETFROM:+0200
TZOFFSETTO:+0300
TZNAME:EEST
DTSTART:20200329T010000
END:DAYLIGHT
BEGIN:STANDARD
TZOFFSETFROM:+0300
TZOFFSETTO:+0200
TZNAME:EET
DTSTART:20201025T010000
END:STANDARD
END:VTIMEZONE
BEGIN:VEVENT
DTSTART;TZID=Europe/Kiev:20200226T150000
DTEND;TZID=Europe/Kiev:20200226T170000
DTSTAMP:20260422T165940
CREATED:20200219T122535Z
LAST-MODIFIED:20200220T075307Z
UID:20630-1582729200-1582736400@museum-literature.odessa.ua
SUMMARY:Двічі страчений одесит Борис Півенштейн.  Вечір пам'яті
DESCRIPTION:Повішений нацистами\, розстріляний сталіністами. \nОдесит Борис Півенштейн\, двічі страчений. \nРеабілітований. \n  \n26 лютого о 15:00 в Одеському літературному музеї відбудеться захід\, присвячений пам’яті незаслужено забутого та омовленого льотчика Бориса Півенштейна. \n  \nОдесит Борис Півенштейн був одним з легендарних пілотів\, які брали участь у порятунку екіпажу пароплава «Челюскін»\, розчавленого полярними льодами в 1934 році. У передвоєнні роки оповідання про цей подвиг за його авторством публікувалися в численних збірниках та окремими виданнями\, а сам він був нагороджений Орденом Червоної Зірки. Здавалося\, що єврейському хлопчикові\, вихідцю з одеських нетрів\, гарантована блискуча кар’єра. З початком війни він\, вже в званні підполковника\, командував авіаполком. Але доля розпорядилася по-іншому… \nУ 1943 році літак Півенштейна був збитий під час боїв на Донбасі. Льотчик потрапив в полон. У травні 1944 року гестапо доставило його в концтабір Штуттгоф\, де він був повішений. Але цією страшною подією історія Бориса Півенштейна не закінчилася. Через 8 років після його загибелі\, рішенням Військової колегії Верховного суду СРСР від 4 квітня 1952 року він був заочно засуджений до розстрілу з позбавленням військового звання та нагород\, як зрадник- перебіжчик\, шпигун. \nУ 2017 році знайшлися докази того\, що Борис Півенштейн був страчений німцями в 1944 році. Встановлено\, що за день до смерті в концтаборі Штуттгоф з Півенштейном зустрічався в’язень Юрій Цуркан-одесит\, також військовий льотчик\, знайомий з ним з 1937 року. Цуркан повернувся живим з полону. У своїй автобіографічній книзі “Останнє коло пекла” він написав\, що Півенштейн ніколи не був колабораціоністом. Більше того\, свідчить\, що гестапо передало Півенштейна в Штуттгоф з метою страти. Цуркану вдалося поговорити з Півенштейном всього декілька хвилин. \nВанда Цуркан\, дослідник\, дочка Юрія Цуркана (автора книги “Останнє коло пекла”\, присвяченій долі Бориса Абрамовича) довгий час займалася питанням реабілітації льотчика\, а у кінці 2019 року отримала інформацію\, про те що він був реабілітований ще в 1997\, після чого відповідні документи були передані в архіви. \nНа зустрічі в Літературному музеї\, уперше будуть представлені архівні документи\, що доводять\, що Борис Півенштейн був страчений в концтаборі Штуттгоф\, а також\, дані пояснення до сорока архівних документів в заяві про його реабілітацію. \nТаким чином\, буде відновлене добре ім’я несправедливо спаплюженого героя – одесита Бориса Півенштейна. \n  \nВхід вільний \n 
URL:https://museum-literature.odessa.ua/events/dvichi-strachenyj-odesyt-borys-pivenshtejn-vechir-pam-yati/
LOCATION:м. Одеса\, вул. Ланжеронівська\, 2\, вул. Ланжеронівська\, 2\, м. Одеса\, Украина
CATEGORIES:Музей
ATTACH;FMTTYPE=image/jpeg:https://museum-literature.odessa.ua/wp-content/uploads/2020/02/Attachment-1.jpeg
END:VEVENT
END:VCALENDAR