BEGIN:VCALENDAR
VERSION:2.0
PRODID:-//Одеський літературний музей - ECPv5.4.0.2//NONSGML v1.0//EN
CALSCALE:GREGORIAN
METHOD:PUBLISH
X-WR-CALNAME:Одеський літературний музей
X-ORIGINAL-URL:https://museum-literature.odessa.ua
X-WR-CALDESC:Події за Одеський літературний музей
BEGIN:VTIMEZONE
TZID:UTC
BEGIN:STANDARD
TZOFFSETFROM:+0000
TZOFFSETTO:+0000
TZNAME:UTC
DTSTART:20190101T000000
END:STANDARD
END:VTIMEZONE
BEGIN:VEVENT
DTSTART;VALUE=DATE:20190924
DTEND;VALUE=DATE:20191009
DTSTAMP:20260421T203350
CREATED:20190917T094212Z
LAST-MODIFIED:20190917T100018Z
UID:19523-1569283200-1570579199@museum-literature.odessa.ua
SUMMARY:Художня виставка «Створимо мир на своїй землі»
DESCRIPTION:нашим батькам присвячується «Скажи: есть память обо мне\, есть в мире сердце\, где живу я …»\n\n«Скажи: есть память обо мне\, есть в мире сердце\, где живу я …»\nОльга Котлярова-Прокопенко  Заслужений художник України\,\nТетяна Бродецька  Заслужений художник України\,\nНінель Котлярова (02.05.1926-07.04.1993)\nЗаслужений майстер народного мистецтва УРСР\,\nЛуїза Котлярова – Луїза Щербакова\,\nТетяна Бродецька\,\nОльга Чайка (Бродецька)\,\nВікторія Бродецька.\nживопис\, графіка\, декоративно-прикладне мистецтво\, фото \n\n\n\n\n\n\n\n\n\n\n\n\n\n\n\n\n24 вересня в 15:00 у залі галереї Одеського літературного музею відбудеться урочисте відкриття виставки «Створимо мир на своїй землі» до 25-річчя Авторського художнього сімейного проекту «Спадкоємність поколінь» 1994-2019 (традиційні сімейні цінності\, сталість\, повага до традицій\, почуття боргу і відповідальності у родині) за підтримки Одеської обласної Ради Миру. \nСпадкоємність поколінь – один з найважливіших феноменів у житті суспільства\, оскільки завдяки йому зберігається минуле\, зберігається цілісність соціуму\, визначається вектор його подальшого розвитку\, підтримується ідентичність соціальних груп. \nЛюдина\, тільки як представник покоління\, знаходить зв’язок з історією\, стає усвідомленим учасником історичного процесу. \nСпадкоємність поколінь – це важливий фактор\, що впливає на розвиток людства. \nВід того\, наскільки вдало старшим членам суспільства вдається передати дітям накопичені знання\, вміння та навички\, залежить успішність спільноти. Така передача дозволяє виходити за межі розвитку конкретної людини\, встановлені стислістю людського життя. Кожне нове покоління має можливість використовувати рівень розвитку\, досягнутий минулими поколіннями. І цей рівень стає деякою стартовою точкою\, основою для подальшого розвитку\, для подальших досягнень\, які у свою чергу будуть передані дітям і онукам. Адже тільки від нас залежить\, яке майбутнє чекає наших дітей.  \nСпадкоємність культури є закономірністю історичного розвитку. Вона реалізується в динамічній і послідовній зміні поколінь. Кожне покоління має свої особливості: цінності і духовне обличчя\, життєвий досвід і ставлення до подій епохи. Воно засвоює досягнутий рівень розвитку і завдяки цієї основі стає ініціатором перетворень\, що сприяють просуванню вперед. \nЦі дві сторони взаємозв’язку поколінь – освоєння культурної спадщини і новаторство – утворюють основу історичного розвитку культури. Трансляція культури є загальним законом\, що визначає єдність людства. \nВиставки проекту «Спадкоємність поколінь» 1994-2019: \n1994 Одеса. Виставка-пам’ять Заслуженого майстра народної творчості УРСР Н.Н. Котлярової\, Одеський Будинок народної творчості. \n1996 Одеса. Виставка-пам’ять. До 70-річчя від Дня народження Нінель Миколаївни Котлярової\, Галерея «На Уютной». \n1998 Одеса. Програма «Золоті майстри Одеси» Виставка «Спаси і збережи»\, галерея «Вернісаж». \n2001 Одеса. «Пам’яті нашої мами присвячується» До 75-річчя від Дня народження Н.Н. Котлярової «Галерея Вернісаж»\, Камерний зал Одеської Державної філармонії (Грамота за видатний внесок у мистецтво України). \n2006 Одеса. Виставка-пам’ять. Присвячена 80-річчю від Дня народження заслуженого майстра народної творчості УРСР Нінель Миколаївни Котлярової «Одна мелодія на три голоси». М.М. Котлярова\, О.Ю. Котлярова-Прокопенко\, Т.С. Бродецька\, Всеукраїнський центр болгарської культури (Каталог). \n2006 Одеса. «Одеса акварельна». Виставка творів одеських митців. Одеський музей західного та східного мистецтв. (Каталог. Надруковано «Біля млину»\, 1972\, папір\, акв. 15 × 20). \n2009 Краматорськ. «Одна країна – две родини». Художня виставка\, живопис\, графіка\, скульптура. Котлярова Н.М.\, Котлярова-Прокопенко О.Ю.\, Прокопенко М.М.\, Бродецький Т.С. (місто Одеса) і Дерегус М.Т.\, Дерегус-Лоренс Н.М.\, Дерегус М.М. (місто Київ). Краматорський художній музей. \n2011 Одеса. Персональна виставка-пам’ять «Листя осіння соната»\, присвячена до 85-річчя від Дня народження заслуженого майстра народної творчості УРСР Нінель Миколаївни Котлярової\, Одеський Будинок-музей імені М.К. Реріха ( Каталог). \n2012 Ізмаїл. Персональна сімейна виставка «Соната в трьох частинах» в проекті «Спадкоємність поколінь». Нінель Котлярова – заслужений майстер народної творчості УРСР\, Ольга Котлярова-Прокопенко – заслужений художник України\, Тетяна Бродецька – член НСХУ (Присвячується пам’яті мого батька Юрія Вікторовича Котлярова)\, Ізмаїльська картинна галерея. \n2013 Одеса. Пам’яті наших батьків присвячується «Скажи: есть память обо мне\, есть в мире сердце\, где живу я… \,\, «Летим касаясь крылами»\, три персональні виставки в проекті «Спадкоємність поколінь». Нінель Котлярова (02.05.1926 – 07.04.1993) – заслужений майстер народної творчості УРСР\, Ольга Котлярова-Прокопенко – заслужений художник України\, Тетяна Бродецька – член НСХУ\, Одеський Державний літературний музей. \n2013 Іллічівськ. Пам’яті наших батьків присвячується «Скажи: есть память обо мне\, есть в мире сердце\, где живу я…». Персональна сімейна виставка «Під знаком створення» у проекті «Спадкоємність поколінь». Нінель Котлярова (02.05.1926-07.04.1993) – заслужений майстер народної творчості УРСР\, Ольга Котлярова-Прокопенко – заслужений художник України\, Тетяна Бродецька – член НСХУ\, Іллічівський музей образотворчих мистецтв ім. А. Белого. \n2018 Одеса. До 50-річчя Одеської обласної Ради миру\, присвячується пам’яті Нінель Миколаївни Котлярової. Персональна сімейна виставка «Одна мелодія на три голоси» в мистецькому проекті «Спадкоємність поколінь»: заслужений майстер народної творчості УРСР Нінель Котлярова\, заслужений художник України Ольга Котлярова-Прокопенко\, заслужений художник України Тетяна Бродецька. Живопис\, графіка\, декоративно-прикладне мистецтво\, фото і відео матеріали. Будинок вчених. \n2019 Одеса. До 25-річчя Авторського художнього сімейного проекту «Спадкоємність поколінь» (1994-2019). Художня виставка «Створюємо світ на своїй землі» – нашим батькам присвячується. \nВиставка діє з 24.09. по 8.10. \nВідкриття відбудеться 24 вересня о 15:00\, вхід вільний.
URL:https://museum-literature.odessa.ua/events/hudozhnya-vystavka-stvorymo-myr-na-svoyij-zemli/
CATEGORIES:Музей
ATTACH;FMTTYPE=image/jpeg:https://museum-literature.odessa.ua/wp-content/uploads/2019/09/hudozhnya-vystavka-stvorymo-myr-na-svoyij-zemli-1.jpg
END:VEVENT
END:VCALENDAR