BEGIN:VCALENDAR
VERSION:2.0
PRODID:-//Одеський літературний музей - ECPv5.4.0.2//NONSGML v1.0//EN
CALSCALE:GREGORIAN
METHOD:PUBLISH
X-WR-CALNAME:Одеський літературний музей
X-ORIGINAL-URL:https://museum-literature.odessa.ua
X-WR-CALDESC:Події за Одеський літературний музей
BEGIN:VTIMEZONE
TZID:Europe/Kiev
BEGIN:DAYLIGHT
TZOFFSETFROM:+0200
TZOFFSETTO:+0300
TZNAME:EEST
DTSTART:20200329T010000
END:DAYLIGHT
BEGIN:STANDARD
TZOFFSETFROM:+0300
TZOFFSETTO:+0200
TZNAME:EET
DTSTART:20201025T010000
END:STANDARD
END:VTIMEZONE
BEGIN:VEVENT
DTSTART;TZID=Europe/Kiev:20200211T160000
DTEND;TZID=Europe/Kiev:20200303T170000
DTSTAMP:20260422T121445
CREATED:20200209T140228Z
LAST-MODIFIED:20200209T140228Z
UID:20533-1581436800-1583254800@museum-literature.odessa.ua
SUMMARY:«КОНСОНАНСИ»  Дмитра Величка та Анни Носенко
DESCRIPTION:11 лютого о 16:00 в Одеському літературному музеї відкриється виставка «КОНСОНАНСИ» Дмитра Величка і Анни Носенко \nАрт-проект «КОНСОНАНСИ» одеських митців – Дмитра Величка і Анни Носенко\, членів Національної спілки художників України\, викладачів художньо-графічного факультету Південноукраїнського національного педагогічного університету імені К.Д. Ушинського\, представляє експозицію живопису\, де суголосно звучать абстрактні та декоративні пейзажні композиції. \n«Співзвуччя» безпредметного та зображального мистецтва відбувається завдяки спільному для обох художників принципу формотворчості: абстрагуванню від випадкового і зайвого\, відмові від несуттєвого і пошуку виразної форми\, де втілюється висхід від матеріальності і буденності до преображеного світу образів і ідей. \nТворчість Дмитра Величка і Анни Носенко ґрунтується на багатій основі традицій Одеської мистецької школи та класичного і авангардного європейського та світового мистецтва. Залишаючись у діалоговій зоні з попередниками\, сучасні одеські художники працюють у царині авторського експерименту з виразністю форми і образу. Митці стверджують абсолютну цінність творчості\, завдяки якій можна наблизитися до Гармонії та Вічних образів\, закладених апріорі у природі і в людині. У такій піднесеності втілюється романтичність світосприйняття. \nЛінії\, смуги і кольорові плями стали основними дійовими особами у зображальному просторі серії абстрактних живописних композицій Д. Величка. Форми ідеальної геометрії – знаки індивідуального художнього простору композицій художника – надають творам архетипічного універсального змісту\, відкритого для інтерпретації глядачами. \nПейзажні мотиви\, мінливі по своїй суті\, стають приводом для створення узагальнених декоративних художніх образів живописних полотен А. Носенко. Враження від конкретних об’єктів\, перетворені внутрішнім піднесеним відчуттям\, мисткиня залучає до експресивних декоративних композицій\, заснованих на принципах гармонії пропорцій\, пластики\, ритміки. \nПровідну роль у живописних консонансах Дмитра Величка і Анни Носенко відіграє чистий\, яскравий колір\, що стає то ущільненою концентрованою емоцією\, то виразною формою втілення світла. Виразність колориту різних за напругою почуттів полотен варіюється від найтонших нюансів до максимальних контрастів. Діапазон емоційних експресій передає розмаїта живописна поверхня. \n  \nКуратор проекту Заслужений художник України Сергій Савченко
URL:https://museum-literature.odessa.ua/events/konsonansy-dmytra-velychka-ta-anny-nosenko/
LOCATION:Одеський літературній музей\, вул. Ланжеронівська \, 2\, м. Одеса\, Україна
CATEGORIES:Art,Exhibition,Музей
ATTACH;FMTTYPE=image/jpeg:https://museum-literature.odessa.ua/wp-content/uploads/2020/02/IMG_20200209_121727.jpg
END:VEVENT
END:VCALENDAR