BEGIN:VCALENDAR
VERSION:2.0
PRODID:-//Одеський літературний музей - ECPv5.4.0.2//NONSGML v1.0//EN
CALSCALE:GREGORIAN
METHOD:PUBLISH
X-WR-CALNAME:Одеський літературний музей
X-ORIGINAL-URL:https://museum-literature.odessa.ua
X-WR-CALDESC:Події за Одеський літературний музей
BEGIN:VTIMEZONE
TZID:UTC
BEGIN:STANDARD
TZOFFSETFROM:+0000
TZOFFSETTO:+0000
TZNAME:UTC
DTSTART:20190101T000000
END:STANDARD
END:VTIMEZONE
BEGIN:VEVENT
DTSTART;VALUE=DATE:20190823
DTEND;VALUE=DATE:20190824
DTSTAMP:20260421T225503
CREATED:20190827T075429Z
LAST-MODIFIED:20190827T080052Z
UID:18792-1566518400-1566604799@museum-literature.odessa.ua
SUMMARY:КОНЦЕРТ ДО ДНЯ НЕЗАЛЕЖНОСТІ УКРАЇНИ в рамках проекту «Одеська опера в палацах і музеях»
DESCRIPTION:23\08\n18:00 \nОдеський літературний музей запрошує всіх бажаючих на музичний концерт\, який пройде 23 серпня в Золотому залі Одеського літературного музею в рамках проекту «Одеська опера в палацах і музеях» і буде присвячений Дню незалежності України. \nУ концерті візьмуть участь майстри класичного вокалу\, солісти Одеського Національного Академічного театру Опери i Балету:\nНародні артистки України Лариса Зуєнко\, Віра Ревенко\,\nЗаслужені артистки України Ірина Берлізова\, Олена Стародубцева\,\nЛауреати міжнародних конкурсів Марина Годулян\, Інга Мартинова\, Віталій Лісковецькій\, Богдан Панченко\, Олександр Прокопович\, Павло Смирнов. \nКонцертмейстер – Наталя Ізуграфова. \nПочаток – о 18.00. \nКвитки можна придбати в касі Одеського Національного Академічного театру Опери і Балету\, і в мережі Центральних театральних кас.
URL:https://museum-literature.odessa.ua/events/kontsert-do-dnya-nezalezhnosti-ukrayiny-v-ramkah-proektu-odeska-opera-v-palatsah-i-muzeyah/
CATEGORIES:Музей
ATTACH;FMTTYPE=image/jpeg:https://museum-literature.odessa.ua/wp-content/uploads/2019/08/kontsert-do-dnya-nezalezhnosti-1.jpg
END:VEVENT
END:VCALENDAR