BEGIN:VCALENDAR
VERSION:2.0
PRODID:-//Одеський літературний музей - ECPv5.4.0.2//NONSGML v1.0//EN
CALSCALE:GREGORIAN
METHOD:PUBLISH
X-WR-CALNAME:Одеський літературний музей
X-ORIGINAL-URL:https://museum-literature.odessa.ua
X-WR-CALDESC:Події за Одеський літературний музей
BEGIN:VTIMEZONE
TZID:Europe/Kiev
BEGIN:DAYLIGHT
TZOFFSETFROM:+0200
TZOFFSETTO:+0300
TZNAME:EEST
DTSTART:20200329T010000
END:DAYLIGHT
BEGIN:STANDARD
TZOFFSETFROM:+0300
TZOFFSETTO:+0200
TZNAME:EET
DTSTART:20201025T010000
END:STANDARD
END:VTIMEZONE
BEGIN:VEVENT
DTSTART;TZID=Europe/Kiev:20200229T140000
DTEND;TZID=Europe/Kiev:20200229T160000
DTSTAMP:20260422T180525
CREATED:20200228T142716Z
LAST-MODIFIED:20200228T154030Z
UID:20682-1582984800-1582992000@museum-literature.odessa.ua
SUMMARY:Концерт "Романс - пісня душі моєї»
DESCRIPTION:Любі друзі ! \nМаємо честь запросити Вас на концерт “Романс – пісня душі моєї»\, який відбудеться в рамках проекту “Народна артистка України Галина Поліванова запрошує”. \nУ концерті прозвучать романси російських\, українських та зарубіжних композиторів. \nУ концерті поряд з відомими співаками беруть участь молоді виконавці. \nВи відкриєте для себе не тільки прекрасний й неповторний світ Романсу\, але і нові імена. \n  \nУ концерті беруть участь: \nСолiстка Одеського нацiонального театру Опери та  Балета  Наталя Каданцева (меццо-сопрано) \nСолiстка ансамблю украiнськоi музики\, пiснi та танцю “Чайка”Лiлiя Давиденко (меццо-сопрано)\n\nЛауреаты мiжнародних конкурсiв : Юлiанна Панченко(сопрано)\,Илля Маркив(баритон)Ольга Крепс (меццо-сопрано)\,Денис Богачев (бас)\,Анна Богач(сопрано)\,Данило Бучка\,(баритон)\,Евген Васькив(тенор).\n\nНасолодитися прекрасним Ви можете 29 лютого о 14:00 в Золотій залі Літературного музею\, який розташований за адресою Ланжеронівська\, 2. \nПриходьте самі та приводьте своїх друзів !! \nВхід вільний
URL:https://museum-literature.odessa.ua/events/kontsert-romans-pisnya-dushi-moyeyi/
ATTACH;FMTTYPE=image/jpeg:https://museum-literature.odessa.ua/wp-content/uploads/2020/02/YUlyanna.jpg
END:VEVENT
END:VCALENDAR