BEGIN:VCALENDAR
VERSION:2.0
PRODID:-//Одеський літературний музей - ECPv5.4.0.2//NONSGML v1.0//EN
CALSCALE:GREGORIAN
METHOD:PUBLISH
X-WR-CALNAME:Одеський літературний музей
X-ORIGINAL-URL:https://museum-literature.odessa.ua
X-WR-CALDESC:Події за Одеський літературний музей
BEGIN:VTIMEZONE
TZID:UTC
BEGIN:STANDARD
TZOFFSETFROM:+0000
TZOFFSETTO:+0000
TZNAME:UTC
DTSTART:20190101T000000
END:STANDARD
END:VTIMEZONE
BEGIN:VEVENT
DTSTART;VALUE=DATE:20190924
DTEND;VALUE=DATE:20191012
DTSTAMP:20260421T203639
CREATED:20191009T143758Z
LAST-MODIFIED:20191009T153721Z
UID:19666-1569283200-1570838399@museum-literature.odessa.ua
SUMMARY:Концерти в межах миротворчої програми "Золота Осінь Миру"
DESCRIPTION:Одеський Літературний Музей запрошує на концерти у рамках щорічної миротворчої програми “ЗОЛОТА ОСІНЬ СВІТУ 2019” \n24 вересня – Золота Зала Одеського літературного музею\, вул. Ланжеронівська\, 2\n3 жовтня – Золота Зала Одеського літературного музею\, вул. Ланжеронівська\, 2\n9 жовтня – Золота Зала Одеського літературного музею\, вул. Ланжеронівська\, 2\n11 жовтня – Меморіальний музей А.С. Пушкіна\, вул. Пушкінська\, 13
URL:https://museum-literature.odessa.ua/events/kontserty-v-mezhah-myrotvorchoyi-programy-zolota-osin-myru/
CATEGORIES:Музей
ATTACH;FMTTYPE=image/jpeg:https://museum-literature.odessa.ua/wp-content/uploads/2019/10/kontserty-v-mezhah-myrotvorchoyi-programy-zolota-osin-myru.jpg
END:VEVENT
END:VCALENDAR