BEGIN:VCALENDAR
VERSION:2.0
PRODID:-//Одеський літературний музей - ECPv5.4.0.2//NONSGML v1.0//EN
CALSCALE:GREGORIAN
METHOD:PUBLISH
X-WR-CALNAME:Одеський літературний музей
X-ORIGINAL-URL:https://museum-literature.odessa.ua
X-WR-CALDESC:Події за Одеський літературний музей
BEGIN:VTIMEZONE
TZID:Australia/Adelaide
BEGIN:STANDARD
TZOFFSETFROM:+1030
TZOFFSETTO:+0930
TZNAME:ACST
DTSTART:20240406T163000
END:STANDARD
BEGIN:DAYLIGHT
TZOFFSETFROM:+0930
TZOFFSETTO:+1030
TZNAME:ACDT
DTSTART:20241005T163000
END:DAYLIGHT
END:VTIMEZONE
BEGIN:VEVENT
DTSTART;TZID=Australia/Adelaide:20240929T140000
DTEND;TZID=Australia/Adelaide:20240929T153000
DTSTAMP:20260423T131925
CREATED:20240926T102639Z
LAST-MODIFIED:20240926T102639Z
UID:38870-1727618400-1727623800@museum-literature.odessa.ua
SUMMARY:«Магія оперети» концент-відкриття IV сезону літературно-музичного салону «BEL CANTO»
DESCRIPTION:Дорогі друзі! Цієї неділі\, 29 вересня\, запрошуемо вас на ВІДРИТТЯ ЧЕТВЕРТОГО СЕЗОНУ літературного-музичного салону «BEL CANTO» на концерт «МАГІЯ ОПЕРЕТИ». \nУ програмі беруть участь: \n– Світова зірка\, солістка світових оперних театрів Ханна Шафажинська (романтичне сопрано)\n– Заслужена артистка України\, солістка ансамблю «Чайка» Одеської обласної філармонії ім. Д. Ойстраха Лілія Давиденко (меццо-сопрано)\n– Заслужена артистка України\, солістка Одеського академічного театру музичної комедії ім. М. Водяного Наталія Ткачук (колоратурне сопрано)\n– Заслужена артистка України\, солістка Одеської обласної філармонії ім. Д. Ойстраха Діана Гульцова (ф-но)\n– Заслужений діяч України Лілія Шевченко (ф-но)\n– Заслужена артистка естрадного мистецтва України Юліанна Панченко (лірико – драматичне сопрано)\n– Соліст Одеського муніципального театру духової музики ім. О. Саліка Олексій Коннов (баритон)\n– Лауреат міжнародних конкурсів Ксенія Бахчалова (сопрано) \nКонцертмейстери: Заслужена артистка України Марина Кічерська\, Тамара Панська\, Олена Горіна. \nВедуча: Катерина Єргєєва\nЗвукорежисер: Олександр Охрій\nЛітературний редактор: Наталія Остроухова \nБЕЗ ВИКОРИСТАННЯ ФОНОГРАМИ\nДЕ: вул. Ланжеронівська\, 2\nКОЛИ: 29 вересня\, о 14:00 \nКвитки у касі музею\nПодробиці за номером +38 (048) 722-33-70
URL:https://museum-literature.odessa.ua/events/magiya-opereti-kontsent-vidkrittya-iv-sezonu-literaturno-muzichnogo-salonu-bel-canto/
LOCATION:Одеський літературній музей\, вул. Ланжеронівська \, 2\, м. Одеса\, Україна
ATTACH;FMTTYPE=image/jpeg:https://museum-literature.odessa.ua/wp-content/uploads/2024/09/magiya-operetty.jpg
END:VEVENT
END:VCALENDAR