BEGIN:VCALENDAR
VERSION:2.0
PRODID:-//Одеський літературний музей - ECPv5.4.0.2//NONSGML v1.0//EN
CALSCALE:GREGORIAN
METHOD:PUBLISH
X-WR-CALNAME:Одеський літературний музей
X-ORIGINAL-URL:https://museum-literature.odessa.ua
X-WR-CALDESC:Події за Одеський літературний музей
BEGIN:VTIMEZONE
TZID:Europe/Kiev
BEGIN:DAYLIGHT
TZOFFSETFROM:+0200
TZOFFSETTO:+0300
TZNAME:EEST
DTSTART:20200329T010000
END:DAYLIGHT
BEGIN:STANDARD
TZOFFSETFROM:+0300
TZOFFSETTO:+0200
TZNAME:EET
DTSTART:20201025T010000
END:STANDARD
END:VTIMEZONE
BEGIN:VEVENT
DTSTART;TZID=Europe/Kiev:20200325T160000
DTEND;TZID=Europe/Kiev:20200325T170000
DTSTAMP:20260422T163332
CREATED:20200313T102756Z
LAST-MODIFIED:20200313T102756Z
UID:21094-1585152000-1585155600@museum-literature.odessa.ua
SUMMARY:«Махатма». Презентація книги про Володимира Хавкіна
DESCRIPTION:!!!В зв’язку з карантином захід перенесено на квітень!!!\nДля отримання більш точної інформації стежте за анонсами. \nДо 160-річного ювілею вченого Володимира Хавкіна в Одеському літературному музеї відбудеться презентація книги «Махатма» письменника Давида Маркиша. \nРоман «Махатма» – це неймовірна історія доктора Хавкіна\, першовідкривача вакцин від холери та чуми\, революціонера в житті й науці\, який покинув батьківщину та став Махатмою в Індії.\nКнига виходить за підтримки міжнародного проекту «Махатма Хавкін»\, який був створений нащадком доктора Олександром Дуель. \nСпеціальні гості: \n– Олександр Дуель\, засновник проекту «Махатма Хавкін» (Aleksandr Duel) \n– Давид Маркиш\, ізраїльський письменник\, лауреат багатьох міжнародних літературних премій: в тому числі літературної премії України\, премії Британської книжкової ліги та грузинської літературної премії імені Івана Мачабелі \n– Євген Деменок\, письменник\, журналіст\, історик мистецтва. Один з творців літературної студії «Зелена лампа»\, Лауреат Міжнародної познаки імені батька російського футуризму Давида Бурлюка та Лауреат одеської муніципальної премії імені К.Г. Паустовського \nПроект «Махатма Хавкін» висловлюємо величезну подяку Євгену Деменко (Eugene Demenok) та Одеському літературному музею за організацію проведення цього заходу. \n  \nВХІД ВІЛЬНИЙ
URL:https://museum-literature.odessa.ua/events/mahatma-prezentatsiya-knygy-pro-volodymyra-havkina/
LOCATION:Одеський літературній музей\, вул. Ланжеронівська \, 2\, м. Одеса\, Україна
ATTACH;FMTTYPE=image/png:https://museum-literature.odessa.ua/wp-content/uploads/2020/03/87816856_648607315955264_1230579882027646976_n.png
END:VEVENT
END:VCALENDAR