BEGIN:VCALENDAR
VERSION:2.0
PRODID:-//Одеський літературний музей - ECPv5.4.0.2//NONSGML v1.0//EN
CALSCALE:GREGORIAN
METHOD:PUBLISH
X-WR-CALNAME:Одеський літературний музей
X-ORIGINAL-URL:https://museum-literature.odessa.ua
X-WR-CALDESC:Події за Одеський літературний музей
BEGIN:VTIMEZONE
TZID:Australia/Adelaide
BEGIN:STANDARD
TZOFFSETFROM:+1030
TZOFFSETTO:+0930
TZNAME:ACST
DTSTART:20250405T163000
END:STANDARD
BEGIN:DAYLIGHT
TZOFFSETFROM:+0930
TZOFFSETTO:+1030
TZNAME:ACDT
DTSTART:20251004T163000
END:DAYLIGHT
END:VTIMEZONE
BEGIN:VEVENT
DTSTART;TZID=Australia/Adelaide:20250905T150000
DTEND;TZID=Australia/Adelaide:20250919T160000
DTSTAMP:20260422T134931
CREATED:20250910T115546Z
LAST-MODIFIED:20250910T115546Z
UID:39900-1757084400-1758297600@museum-literature.odessa.ua
SUMMARY:«МЕТАФОРИЧНА ЛАГУНА» виставка живопису Наталії Класненької
DESCRIPTION:5 вересня о 15:00 в галереї Одеського літературного музею відбудеться відкриття персональнаї виставки живопису Наталії Класненької під назвою «Метафорична лагуна». \nПроєкт є художнім дослідженням метафор та образів\, що виникають на межі між візуальним мистецтвом і внутрішнім досвідом глядача. Живопис Класненької зосереджується на пошуку пластичної мови для вираження тонких емоційних станів — від споглядальної тиші до відчуття глибинної єдності зі світом. \n«Метафорична лагуна» — це простір візуальних медитацій\, де картини стають провідниками\, запрошуючи відвідувача до особистого діалогу з мистецтвом. Світлові та кольорові переливи робіт формують атмосферу занурення й відкривають нові можливості сприйняття та інтерпретації образів. \nНаталія Класненька — художниця\, авторка арт-проєктів\, дослідниця міждисциплінарних практик. У своїй творчості вона поєднує традиції живопису з елементами перформансу\, літературного слова та звукових практик\, створюючи цілісні арт-простори. \nДЕ: вул. Ланжеронівська\, 2\nКОЛИ: 5 вересня\, о 15:00 \nПодробиці за номером +38 (048) 722-33-70
URL:https://museum-literature.odessa.ua/events/metaforichna-laguna-vistavka-zhivopisu-nataliyi-klasnenkoyi/
LOCATION:Одеський літературній музей\, вул. Ланжеронівська \, 2\, м. Одеса\, Україна
ATTACH;FMTTYPE=image/jpeg:https://museum-literature.odessa.ua/wp-content/uploads/2025/09/Metaforichna-laguna-FB-2.jpg
END:VEVENT
END:VCALENDAR