BEGIN:VCALENDAR
VERSION:2.0
PRODID:-//Одеський літературний музей - ECPv5.4.0.2//NONSGML v1.0//EN
CALSCALE:GREGORIAN
METHOD:PUBLISH
X-WR-CALNAME:Одеський літературний музей
X-ORIGINAL-URL:https://museum-literature.odessa.ua
X-WR-CALDESC:Події за Одеський літературний музей
BEGIN:VTIMEZONE
TZID:Europe/Kiev
BEGIN:DAYLIGHT
TZOFFSETFROM:+0200
TZOFFSETTO:+0300
TZNAME:EEST
DTSTART:20230326T010000
END:DAYLIGHT
BEGIN:STANDARD
TZOFFSETFROM:+0300
TZOFFSETTO:+0200
TZNAME:EET
DTSTART:20231029T010000
END:STANDARD
END:VTIMEZONE
BEGIN:VEVENT
DTSTART;TZID=Europe/Kiev:20230212T140000
DTEND;TZID=Europe/Kiev:20230324T160000
DTSTAMP:20260421T220124
CREATED:20230212T135502Z
LAST-MODIFIED:20230324T141255Z
UID:34780-1676210400-1679673600@museum-literature.odessa.ua
SUMMARY:Міжнародна дитяча виставка «ДІТИ УКРАЇНИ ЗА ПЕРЕМОГУ»
DESCRIPTION:Маленькі вихованці різних шкіл міста Одеси\, Одеської області та світу\, крізь малюнки несуть дух дитячої незламаності\, стійкості та розуміння\, що все буде ПЕРЕМОГА! \nВиставка спрямована на українців та друзів нашої країни різного віку. \nБажаємо приємного перегляду
URL:https://museum-literature.odessa.ua/events/mizhnarodna-dityacha-vistavka-diti-ukrayini-za-peremogu/
LOCATION:Одеський літературній музей\, вул. Ланжеронівська \, 2\, м. Одеса\, Україна
ATTACH;FMTTYPE=image/jpeg:https://museum-literature.odessa.ua/wp-content/uploads/2023/02/IMG_7757.jpg
END:VEVENT
END:VCALENDAR