BEGIN:VCALENDAR
VERSION:2.0
PRODID:-//Одеський літературний музей - ECPv5.4.0.2//NONSGML v1.0//EN
CALSCALE:GREGORIAN
METHOD:PUBLISH
X-WR-CALNAME:Одеський літературний музей
X-ORIGINAL-URL:https://museum-literature.odessa.ua
X-WR-CALDESC:Події за Одеський літературний музей
BEGIN:VTIMEZONE
TZID:UTC
BEGIN:STANDARD
TZOFFSETFROM:+0000
TZOFFSETTO:+0000
TZNAME:UTC
DTSTART:20190101T000000
END:STANDARD
END:VTIMEZONE
BEGIN:VEVENT
DTSTART;VALUE=DATE:20191004
DTEND;VALUE=DATE:20191012
DTSTAMP:20260421T203457
CREATED:20191009T145057Z
LAST-MODIFIED:20191009T153828Z
UID:19676-1570147200-1570838399@museum-literature.odessa.ua
SUMMARY:Міжнародній літературно-художній проект «Каліграфія»
DESCRIPTION:з 4.10 по 11.10. \nОдеський літературний музей\, Баварський Дім та Гете-інститут представляють міжнародний інтерактивний Літературний проект «Каліграфія рукописної книги» під керівництвом Корнелії Брауер. Група одеських художників-каліграфів проілюструє та видасть у рукописному варіанті старовинну німецьку казку «Die Regentrude» (Королева дощів). \nКорнелія Брауер художник\, графік\, кераміст й каліграф з Берліна. Протягом двадцяти одного року пані Брауер є культурним керівником юнацького культурного центру «Gerad Philipe». Персональні виставки Корнелії Брауер проходили в Німеччині (Берлін\, Лейпциг)\, Італії (Тусканія\, Градоліт)\, в центрі Помпіду у Парижі та в музеї сучасного мистецтва в Нью-Йорку. \nОдеський літературний музей\, Баварський Дім і Гете-інститут запрошують всіх\, хто цікавиться мистецтвом каліграфії стати причетними до таємниці створення рукописної книги. \nПроект діє з 4 по 11 жовтня.
URL:https://museum-literature.odessa.ua/events/mizhnarodnij-literaturno-hudozhnij-proekt-kaligrafiya/
CATEGORIES:Музей
ATTACH;FMTTYPE=image/jpeg:https://museum-literature.odessa.ua/wp-content/uploads/2019/10/mizhnarodnij-literaturno-hudozhnij-proekt-kaligrafiya.jpg
END:VEVENT
END:VCALENDAR