BEGIN:VCALENDAR
VERSION:2.0
PRODID:-//Одеський літературний музей - ECPv5.4.0.2//NONSGML v1.0//EN
CALSCALE:GREGORIAN
METHOD:PUBLISH
X-WR-CALNAME:Одеський літературний музей
X-ORIGINAL-URL:https://museum-literature.odessa.ua
X-WR-CALDESC:Події за Одеський літературний музей
BEGIN:VTIMEZONE
TZID:Europe/Kiev
BEGIN:DAYLIGHT
TZOFFSETFROM:+0200
TZOFFSETTO:+0300
TZNAME:EEST
DTSTART:20200329T010000
END:DAYLIGHT
BEGIN:STANDARD
TZOFFSETFROM:+0300
TZOFFSETTO:+0200
TZNAME:EET
DTSTART:20201025T010000
END:STANDARD
END:VTIMEZONE
BEGIN:VEVENT
DTSTART;TZID=Europe/Kiev:20200310T150000
DTEND;TZID=Europe/Kiev:20200310T170000
DTSTAMP:20260422T163814
CREATED:20200309T110846Z
LAST-MODIFIED:20200309T110846Z
UID:20756-1583852400-1583859600@museum-literature.odessa.ua
SUMMARY:МОНОВИСТАВА ОЛЕНИ СТРОГАНОВОЇ «…І МАРГАРИТА»
DESCRIPTION:10 березня\, в день пам’яті Михайла Булгакова\, в Одеському літературно-меморіальному музеї О.С. Пушкіна\, в рамках циклу «Зупинка на вимогу серця» Вітальні «Diligans» актриса Олена Строганова виступить з моновиставою за романом М.О. Булгакова «…і Маргарита». \n  \nАктриса Олена Строганова закінчила Одеське театрально-художнє училище і працювала в Одеському Академічному театрі музичної комедії і в Одеській Філармонії. Лауреат Всеукраїнського конкурсу читців. З 1997 р. живе і працює в Нью-Йорку. Працювала на російському телеканалі RTN і радіо «Надія»\, а також в театрі «Steps» і «Haverim». Удостоєна нагороди «Emerald Duke». Актриса камерного театру «Артистична вітальня» Фелікса Яблоновського (театр двічі приїжджав до Одеси на гастролі з виставами «Анна і Амедео. Ахматова і Модільяні. Історія кохання»\, «Ілюзії» Річарда Баха\, «Знайомий ваш Сергій Єсенін»). В теперешній час актриса театру «STEPS» і літературно-музичного театру Олени Строгановой. \n  \nПочаток – о 15:00. \nВхід вільний.
URL:https://museum-literature.odessa.ua/events/monovystava-oleny-stroganovoyi-i-margaryta/
LOCATION:Літературно-меморіальній музей О.С. Пушкіна\, вул. Пушкінська\, 13\, м. Одеса\, Украина
CATEGORIES:Art,Музей
ATTACH;FMTTYPE=image/jpeg:https://museum-literature.odessa.ua/wp-content/uploads/2020/03/89177664_808431546297379_8958891562834591744_n.jpg
END:VEVENT
END:VCALENDAR