BEGIN:VCALENDAR
VERSION:2.0
PRODID:-//Одеський літературний музей - ECPv5.4.0.2//NONSGML v1.0//EN
CALSCALE:GREGORIAN
METHOD:PUBLISH
X-WR-CALNAME:Одеський літературний музей
X-ORIGINAL-URL:https://museum-literature.odessa.ua
X-WR-CALDESC:Події за Одеський літературний музей
BEGIN:VTIMEZONE
TZID:UTC
BEGIN:STANDARD
TZOFFSETFROM:+0000
TZOFFSETTO:+0000
TZNAME:UTC
DTSTART:20190101T000000
END:STANDARD
END:VTIMEZONE
BEGIN:VEVENT
DTSTART;TZID=UTC:20190517T200000
DTEND;TZID=UTC:20190517T200000
DTSTAMP:20260422T024612
CREATED:20160630T210000Z
LAST-MODIFIED:20190527T230706Z
UID:10792-1558123200-1558123200@museum-literature.odessa.ua
SUMMARY:Музейна ніч «О беззаконьях\, о грехах\, бегах\, погонях….» або Як пишуть письменники
DESCRIPTION:17 травня в Одеському літературному музеї відбудеться Вісімнадцята Музейна ніч\, приурочена до Міжнародного дня музеїв (International Museum Day).\n\nУ чому сенс мистецтва? Письменницького мистецтва ..\nВідповідь\, якщо така взагалі існує\, відома лише самим письменникам\, ну й трошки музейним працівникам.\nЗазирнути за завісу таємниці мук та радості творчості та побачити бекграунд народження Літератури Вас запрошує Одеський літературний музей у п’ятницю\, 17 травня о 20:00 на Музейній Ночі «О беззаконьях\, о грехах\, бегах\, погонях….» або Як пишуть письменники. \nУ нашому спецпроекті Ви знайдете цікаві факти про шедеври та їх творців\, про історії експонатів та музейних раритетів\, а також авторські екскурсії по нічній експозиції музею\, відкриття виставки плакатів класиків польського графічного дизайну\, відкритий поетичний слем «Вільний мікрофон» та багато іншого. \nНа Вас чекають: \n«О свойствах страсти…» з  О. Каракіною.\nСтрунний квінтет «Tango Musik  Project»  та  камерний романс  від  О.   Вишневської та М. Волкова \n«Вопреки правилам…»  з  К. Свірською\n«Секрети сумки діпкур`єра»  з  К. Єргєєвою \nВиставки:\n«И творчество\, и чудотворчество…» артефакти письменництва\nВиставка графіки польських митців  Лекс Древінський та Лешко Жебровський\nВиставка живопису «Studien» Герхарта Кранера \nВ Саду скульптур:\n«Вільний мікрофон: Ваша поетична хвилинка!» поетичний слем\nРок-гурт «Человек в очках» \n\n\n\n\n\n\n\n\n\n\n\n\n\n\n	Квитки у касі музею.
URL:https://museum-literature.odessa.ua/events/muzejna-nich-o-bezzakonyah-o-grehah-begah-pogonyah-abo-yak-pyshut-pysmennyky/
CATEGORIES:Музей
ATTACH;FMTTYPE=image/jpeg:https://museum-literature.odessa.ua/wp-content/uploads/2016/07/muzejna-nich.jpg
END:VEVENT
END:VCALENDAR