BEGIN:VCALENDAR
VERSION:2.0
PRODID:-//Одеський літературний музей - ECPv5.4.0.2//NONSGML v1.0//EN
CALSCALE:GREGORIAN
METHOD:PUBLISH
X-WR-CALNAME:Одеський літературний музей
X-ORIGINAL-URL:https://museum-literature.odessa.ua
X-WR-CALDESC:Події за Одеський літературний музей
BEGIN:VTIMEZONE
TZID:UTC
BEGIN:STANDARD
TZOFFSETFROM:+0000
TZOFFSETTO:+0000
TZNAME:UTC
DTSTART:20190101T000000
END:STANDARD
END:VTIMEZONE
BEGIN:VEVENT
DTSTART;VALUE=DATE:20190710
DTEND;VALUE=DATE:20190725
DTSTAMP:20260421T220223
CREATED:20190709T185622Z
LAST-MODIFIED:20190711T202811Z
UID:18198-1562716800-1564012799@museum-literature.odessa.ua
SUMMARY:«Музика моря» виставка Анни Лі
DESCRIPTION:10 липня о 15:00 в Одеському літературному музеї відкривається персональна виставка «Музика моря» молодої художниці Анни Лі. \nТемою експозиції є настільки актуальна для нас морська стихія. «У процесі створення своїх картин\, я завжди прагнула дослідити діалектику води як речовини\, що грає найважливішу роль у виникненні і підтримці життя на Землі. У глобальному кругообігу матерії і енергії\, всі об’єкти змінюються\, наповнюють і замінюють один одного. Вони створюють зв’язок всього існуючого в нескінченному просторі\, наповнений\, на мій погляд\, духовним\nзмістом»\, — розкриває концепцію виставки сама авторка. \nАнна Лі (Літвинова) народилася і живе в Одесі. Закінчила художньо-графічний факультет УДПУ (м. Умань) зі ступенем магістра.\nЗ 2018 року прийнята в «Професійну спілку художників»\, яка об’єднує авторів з усього СНД. \nСаме Літературний музей вперше представив творчість Анни на виставці «Радість натхнення» у 2012 році. Також картини художниці виставлялися в Єврейському культурному центрі «Beit Grand» (Одеса\, 2015) і в ДІАЗ «Стара Умань» (Умань\, 2018). Анна створює свої роботи долаючи серйозні труднощі зі здоров’ям. \nВиставка діє до 24 липня. \n\n\n\n\n\n\n\n\n\n\n\n\n\n\n\n\n	ПОЧАТОК – О 15.00
URL:https://museum-literature.odessa.ua/events/muzyka-morya-vystavka-anny-li/
CATEGORIES:Музей
ATTACH;FMTTYPE=image/jpeg:https://museum-literature.odessa.ua/wp-content/uploads/2019/07/muzyka-morya-vystavka-anny-li-ua.jpg
END:VEVENT
END:VCALENDAR