BEGIN:VCALENDAR
VERSION:2.0
PRODID:-//Одеський літературний музей - ECPv5.4.0.2//NONSGML v1.0//EN
CALSCALE:GREGORIAN
METHOD:PUBLISH
X-WR-CALNAME:Одеський літературний музей
X-ORIGINAL-URL:https://museum-literature.odessa.ua
X-WR-CALDESC:Події за Одеський літературний музей
BEGIN:VTIMEZONE
TZID:UTC
BEGIN:STANDARD
TZOFFSETFROM:+0000
TZOFFSETTO:+0000
TZNAME:UTC
DTSTART:20190101T000000
END:STANDARD
END:VTIMEZONE
BEGIN:VEVENT
DTSTART;VALUE=DATE:20190814
DTEND;VALUE=DATE:20190827
DTSTAMP:20260421T214827
CREATED:20190808T194413Z
LAST-MODIFIED:20190814T104812Z
UID:18427-1565740800-1566863999@museum-literature.odessa.ua
SUMMARY:Мистецький  проект  МАМАЙ МАНДРУЄ
DESCRIPTION:14.08.19 – 26.08.19 \nВідкриття 14.08  15:00 \nМистецький  проект «Мамай мандрує» — це культурно – просвітницький\, культурологічний\, освітній захід\, спрямований на патріотичне виховання молоді та юнацтва\, вивчення сторінок історії своєї держави\, а також залучення широких верств населення до аматорської творчості\, сприяння відродженню народних традицій та ремесел. \nЗвернення до теми «Козака Мамая» не випадкове\, адже образ цього хороброго воїна в українському образотворчому та  декоративному мистецтві займає визначне місце. \nЦя популярна в народі картина стала символом для українців  ще з часів козацької доби. Сюжет\, присвячений козакові – бандуристу\,   був дуже розповсюджений у 17-му сторіччі у розпал народних повстань. Малювали його зображення на скринях\, дверях\, фіранках\, вуликах.   Дослідження  козацької тематики сучасними художниками саме сьогодні — це є прояв поваги до славного минулого нашої Батьківщини\, та спроба  по-сучасному представити глядачеві  дивовижного козака – характерника. \nУчасники проекту – майстри\, які працюють в різноманітних техніках: живопис\, графіка\, гравюра\, кераміка\, витинанка\, флористика. \n\n\n\n\n\n\n\n\n\n\n\n\n\n\n\n\n	КВИТКИ У КАСІ МУЗЕЮ
URL:https://museum-literature.odessa.ua/events/mystetskyj-proekt-mamaj-mandruye/
CATEGORIES:Музей
ATTACH;FMTTYPE=image/jpeg:https://museum-literature.odessa.ua/wp-content/uploads/2019/08/mystetskyj-proekt-mamaj-mandruye.jpg
END:VEVENT
END:VCALENDAR