BEGIN:VCALENDAR
VERSION:2.0
PRODID:-//Одеський літературний музей - ECPv5.4.0.2//NONSGML v1.0//EN
CALSCALE:GREGORIAN
METHOD:PUBLISH
X-WR-CALNAME:Одеський літературний музей
X-ORIGINAL-URL:https://museum-literature.odessa.ua
X-WR-CALDESC:Події за Одеський літературний музей
BEGIN:VTIMEZONE
TZID:Europe/Kiev
BEGIN:DAYLIGHT
TZOFFSETFROM:+0200
TZOFFSETTO:+0300
TZNAME:EEST
DTSTART:20220327T010000
END:DAYLIGHT
BEGIN:STANDARD
TZOFFSETFROM:+0300
TZOFFSETTO:+0200
TZNAME:EET
DTSTART:20221030T010000
END:STANDARD
END:VTIMEZONE
BEGIN:VEVENT
DTSTART;TZID=Europe/Kiev:20221020T150000
DTEND;TZID=Europe/Kiev:20221120T170000
DTSTAMP:20260422T042334
CREATED:20221014T134830Z
LAST-MODIFIED:20221014T134830Z
UID:33682-1666278000-1668963600@museum-literature.odessa.ua
SUMMARY:"Нащадки" / виставка сучасного мистецтва
DESCRIPTION:Даний проект спільної виставки під назвою «Нащадки» зародився внаслідок багатьох років дружби та спілкування художників\, яких поєднує любов до різних стилів та жанрів сучасного мистецтва. Ми представляємо співтовариство\, яке було започатковано нашими батьками – творцями\, але батьками не в біологічному сенсі\, а в сенсі сприйняття величезного світу\, яким є живопис у його найширшому та найскладнішому прояві. Ми – група дуже різних художників\, яких поєднує одна ідея про те\, що живопис\, як вид мистецтва та форма людської діяльності може і сьогодні дієво перетворювати цей світ на краще та допомагати звичайним людям\, а не лише професіоналам-художникам\, глибше та багатше сприймати та розуміти це життя як прекрасну реальність\, дану нам великим Творцем – Богом. Ми вдячні Йому за те\, що наші дитинство та юність пройшли у нашій улюбленій Одесі\, і ми всі свого часу здобули художню освіту та росли\, як художники\, вбираючи великі традиції південної школи живопису та зразки чудової творчості корифеїв одеського нонконформізму\, а також інших художників.\nСучасне мистецтво в постмодерністському світі це дуже складне явище\, тому що точка дотику сучасного мистецтва лежить у площині між минулим\, сьогоденням і майбутнім\, і тому сучасне мистецтво базується\, з одного боку\, на всьому мальовничому просторі традиції та концепцій минулого\, а з іншого\, воно заглядає у майбутнє\, намагаючись передбачити тенденції та перебіг розвитку світоглядів майбутнього.\nУ цьому складному постмодерному світі все ускладнюється зв’язком мистецтва з віртуальною реальністю\, яка зараз розвинена повсюдно і надає величезний вплив на формування свідомості сучасних людей.\nКультурологи та теоретики мистецтва стверджують\, що мистецтво в постмодерністському світі знімає напругу між авангардом і традицією\, воно лояльне та уважне до всіх часів та стилів. Художник при цьому\, як сенсор-деміург пропускає через себе різні потоки краси та божественної енергії\, не завжди навіть усвідомлюючи їхнє значення. Це може бути іронія чи серйозний погляд\, глибоко і ретельно розроблені образи чи випадкові та швидкі барвисті сплески у техніці а-ля прима\, головне\, щоб це було щиро і тоді це мистецтво має право на існування та захоплення.\nТак чи інакше ми хочемо представити на суд глядачів ті зразки художніх творів\, які на наш погляд можуть бути цікавими для людей і допоможуть їм краще та радісніше сприймати це життя у наш непростий час.\n\nВідкриття виставки – 20 жовтня 2022 о 15:00\nНаша адреса: вул. Ланжеронівская\, 2\nВиставка працює з 20.10 по 20.11.2022 р.
URL:https://museum-literature.odessa.ua/events/nashhadki-vistavka-suchasnogo-mistetstva/
LOCATION:Одеський літературній музей\, вул. Ланжеронівська \, 2\, м. Одеса\, Україна
ATTACH;FMTTYPE=image/jpeg:https://museum-literature.odessa.ua/wp-content/uploads/2022/10/Nashhadki-2022_afisha-baner-JPEG.jpg
END:VEVENT
END:VCALENDAR