BEGIN:VCALENDAR
VERSION:2.0
PRODID:-//Одеський літературний музей - ECPv5.4.0.2//NONSGML v1.0//EN
CALSCALE:GREGORIAN
METHOD:PUBLISH
X-WR-CALNAME:Одеський літературний музей
X-ORIGINAL-URL:https://museum-literature.odessa.ua
X-WR-CALDESC:Події за Одеський літературний музей
BEGIN:VTIMEZONE
TZID:Australia/Adelaide
BEGIN:STANDARD
TZOFFSETFROM:+1030
TZOFFSETTO:+0930
TZNAME:ACST
DTSTART:20250405T163000
END:STANDARD
BEGIN:DAYLIGHT
TZOFFSETFROM:+0930
TZOFFSETTO:+1030
TZNAME:ACDT
DTSTART:20251004T163000
END:DAYLIGHT
END:VTIMEZONE
BEGIN:VEVENT
DTSTART;TZID=Australia/Adelaide:20250822T160000
DTEND;TZID=Australia/Adelaide:20250822T170000
DTSTAMP:20260422T191423
CREATED:20250814T123826Z
LAST-MODIFIED:20250814T140257Z
UID:39840-1755878400-1755882000@museum-literature.odessa.ua
SUMMARY:«Одеса – це Україна» концерт до Дня Незалежності
DESCRIPTION:У Золотім залі Одеського літературного музею 22 серпня о 16:00 відбудеться концерт\, присвячений Дню Незалежності та Дню народження міста Одеси «Одеса – це Україна» \nВ концерті беруть участь:\nНародна артистка України Віра Ревенко\nЛауреати міжнародних конкурсів:\nСолісти Одеського національного академічного театру опери та балету Василь Добровольський\, Павло Смірнов\, Олександр Стрюк. \nСтуденти ОНМА ім. А. Нежданової:\nО. Демченко\, Р. Арабаджи\, В. Горбенко\, О. Ткаченко\, В. Вігановська\, І. Чобану. \nЗразковий хореографічний колектив «Акварельки» Одеська гімназія № 25 Одеської міської ради.\nХореограф – О. Швець. \nВХІД ВІЛЬНИЙ \n  \nДЕ: вул. Ланжеронівська\, 2.\nКОЛИ: 22 серпня о 16:00 \nПодробиці за номером +38 (048) 722-33-70
URL:https://museum-literature.odessa.ua/events/odesa-tse-ukrayina-kontsert-do-dnya-nezalezhnosti/
LOCATION:Одеський літературній музей\, вул. Ланжеронівська \, 2\, м. Одеса\, Україна
ATTACH;FMTTYPE=image/jpeg:https://museum-literature.odessa.ua/wp-content/uploads/2025/08/Revenko-kontsert-nezalezhnist-sajt-1.jpg
END:VEVENT
END:VCALENDAR