BEGIN:VCALENDAR
VERSION:2.0
PRODID:-//Одеський літературний музей - ECPv5.4.0.2//NONSGML v1.0//EN
CALSCALE:GREGORIAN
METHOD:PUBLISH
X-WR-CALNAME:Одеський літературний музей
X-ORIGINAL-URL:https://museum-literature.odessa.ua
X-WR-CALDESC:Події за Одеський літературний музей
BEGIN:VTIMEZONE
TZID:UTC
BEGIN:STANDARD
TZOFFSETFROM:+0000
TZOFFSETTO:+0000
TZNAME:UTC
DTSTART:20190101T000000
END:STANDARD
END:VTIMEZONE
BEGIN:VEVENT
DTSTART;VALUE=DATE:20191112
DTEND;VALUE=DATE:20200116
DTSTAMP:20260421T184248
CREATED:20191211T203919Z
LAST-MODIFIED:20191226T152800Z
UID:19975-1573516800-1579132799@museum-literature.odessa.ua
SUMMARY:ОДЕСЬКИЙ ЛІТЕРАТУРНИЙ МУЗЕЙ «РІЗДВЯНА ПРОГРАМА 2019-2020»
DESCRIPTION:Напередодні новорічних свят і в дні новорічних канікул запрошуємо одеситів та гостей нашого міста в Одеський літературний музей\, де Ви зможете провести незабутній час у теплій атмосфері щастя та чарівництва\n\nз 20.12.2019 – по 20.01.2020 рр. \nДитяча інтерактивна екскурсія «Бал у палаці» (замовлення екскурсії за попереднім записом за телефоном 8 (048) 722-33-70). \nОдеський літературний музей (вул. Ланжеронівська\, 2). \nКвитки в касі музею. \n  \nз 11.12.2019 – по 24.01.2020 \n«Історія походження свят «Новий рік» і «Різдво»»  загадки та конкурси. \nМеморіальний музей Христо Ботева (Одеська область\, Арцизький район\, село Задунаївка\, вул. Миру\, 81-б\, тел.: +38 (048) 452-33-21) \nВхід вільний. \n  \n  \n12.11.19 о 16-00 \nLINEA ASPERA ET TENERA Персональна виставка графіки Али Ворохти. \nВиставка діє до 8.01.2020 . \nВеликий зал галереї Одеського літературного музею (вул. Ланжеронівська\, 2). \nКвитки в касі музею. Відкриття виставки – вхід вільний. \n  \n  \n13.12.2019 о 20-00 \n«Андріївські вечорниці» літературний вечір. \nМеморіальний музей С. І. Олійника (Одеська область\, Миколаївський район\, с. Левадівка\, вул. Центральна\, 95). \nВхід вільний. \n  \n19.12.2019 о 12-00 \n«Ретро Ялинка» Виставка старовинних ялинкових іграшок. \nВиставка діє до 20.01.2020 . \nМеморіальний музей К. Г. Паустовського (Одеса\, вул. Чорноморська\, 8 тел.:\, (048) 722-84-47). \nКвитки в касі музею. Відкриття виставки – вхід вільний. \n  \n20.12.2019 о 13-00 \n«Фантазії на тему…»  Відкриття виставки художників арт-студії «Sinij Crab» Али Шляхової\, Наталії Жури та Олександри Петрової. \nВ рамках благодійної програми «Різдвяні вечори» спільно з Обласною Радою Миру. \nЛітературно-меморіальний музей О.С. Пушкіна (вул. Пушкінська\, 13). \nКвитки в касі музею. Відкриття виставки – вхід вільний. \n  \n  \n20.12.2019 о 14-00 \n«Біле натхнення» Персональна виставка живопису Світлани Крижевскої. \nМеморіальний музей К. Г. Паустовського (Одеса\, вул. Чорноморська\, 8 тел.:\, (048) 722-84-47). Виставка діє до 25.03.2020 . \nКвитки в касі музею. Відкриття виставки – вхід вільний. \n  \n22.12.2019 о 15-00 \n«Праздночтения» Презентація нових номерів журналу «Южное сияние». Ведучі вечора Сергій Главацький та Людмила Шарга. В рамках благодійної програми «Різдвяні вечори» спільно з Обласною Радою Миру. Одеський літературний музей (вул. Ланжеронівська\, 2). \nВхід вільний. \n  \n24.12.2019 о 15-00 \n«Я издали беседую с тобой…» Зустріч-зупинка вітальні «Diligans». Ведуча Людмила Шарга. За участю майстра художнього слова\, лауреата літературних премій Олени Куклової. В рамках благодійної програми «Різдвяні вечори» спільно з Обласною Радою Миру. \nЛітературно-меморіальний музей О.С. Пушкіна (вул. Пушкінська\, 13). \nВхід вільний. \n  \n25.12.2019 о 15-00 \n“Казки Нового року”. Поетичний вечір А. Індріцаніна. \nЛітературно-меморіальний музей О.С. Пушкіна (вул. Пушкінська\, 13). \nВхід вільний. \n  \n  \n26.12.2019 о 15-00 \n«Янголи в небі» Нова концертна програма лауреата міжнародних конкурсів ансамблю солістів Одеської обласної філармонії «Ренесанс». В рамках благодійної програми «Різдвяні вечори» спільно з Обласною Радою Миру. \nЗолотий зал Одеського Літературного музею (вул. Ланжеронівська\, 2). \nВхід вільний. \n  \n27.12.2019 о 15-00 \n«Час не обирають…» Музично-поетична композиція лауреата літературних премій \nК. Паустовського та І. Рядченко Світлани Лукиної та заслуженого працівника культури України Євгена Лукашова. \nВ рамках благодійної програми «Різдвяні вечори» спільно з Обласною Радою Миру. Золотий зал Одеського літературного музею (вул. Ланжеронівська\, 2). \nВхід вільний. \n  \n29.12.19 о 12-00 \nНоворічний бал школи “Пушкінський музейон”. \nЗолотий зал Одеського Літературного музею (вул. Ланжеронівська\, 2). \nВхід вільний. \n  \n4.01.2020 року о 14-00 \n«Поезія і музика» Творчий вечір Юрія Роботіна та Тетяни Одинокової. \nЗолотий зал Одеського літературного музею (вул. Ланжеронівська\, 2). \nВхід вільний. \n  \n8.01.2020 в 13-00 \nДитячий новорічний ранок  \nЗолотий зал Одеського літературного музею (вул. Ланжеронівська\, 2). \nКвитки в касі музею. \n  \n11.01.2020 о 12-00 \nДень пам’яті Степана Олійника \nМеморіальний музей С. І. Олійника (Одеська область\, Миколаївський район\, с. Левадівка\, вул. Центральна\, 95.). \nВхід вільний. \n  \n12.01.2020 о 15-00 \n«Новорічне диво» Концерт лауреатів міжнародних конкурсів Ганни Слободяник (сопрано) і Ганни Шпак (меццо-сопрано). \nВ рамках благодійної програми «Різдвяні вечори» спільно з Обласною Радою Миру. Учасники програми: солісти Одеської обласної філармонії Ростислав Кречун (акордеон)\, Роман Черкас (флейта). Концертмейстер Тетяна Моторна. Ведуча Олена Шаврук. \nЗолотий зал Одеського літературного музею (вул. Ланжеронівська\, 2). \nВхід вільний. \n  \n14.01.2020 о 15-00 \n«Під знаком створення» Арт-проект заслуженого художника України Ольги Котлярової-Прокопенко. \nВ рамках благодійної програми «Різдвяні вечори» спільно з Обласною Радою Миру. Куратор міжнародної виставки заслужений художник України Тетяна Бродецька. Виставка діє до 31.01.2020. \nГалерея Одеського літературного музею (вул. Ланжеронівська\, 2). \nКвитки в касі музею. Відкриття виставки – вхід вільний. \n  \n15.01.2020 о 14-00 \nОбласна Рада миру і Дипломатичний клуб представляють  Творчий вечір Генерального консула Румунії в Одесі Еміля Рапчі. В рамках благодійної програми «Різдвяні вечори» спільно з Обласною Радою Миру та Дипломатичним клубом. \nЗолотий зал Одеського літературного музею (вул. Ланжеронівська\, 2). \nВхід вільний. \n 
URL:https://museum-literature.odessa.ua/events/odeskyj-literaturnyj-muzej-rizdvyana-programa-2019-2020/
CATEGORIES:Музей
ATTACH;FMTTYPE=image/jpeg:https://museum-literature.odessa.ua/wp-content/uploads/2019/12/rizdvyana-programa-2019-2020.jpg
END:VEVENT
END:VCALENDAR