BEGIN:VCALENDAR
VERSION:2.0
PRODID:-//Одеський літературний музей - ECPv5.4.0.2//NONSGML v1.0//EN
CALSCALE:GREGORIAN
METHOD:PUBLISH
X-WR-CALNAME:Одеський літературний музей
X-ORIGINAL-URL:https://museum-literature.odessa.ua
X-WR-CALDESC:Події за Одеський літературний музей
BEGIN:VTIMEZONE
TZID:Europe/Kiev
BEGIN:DAYLIGHT
TZOFFSETFROM:+0200
TZOFFSETTO:+0300
TZNAME:EEST
DTSTART:20230326T010000
END:DAYLIGHT
BEGIN:STANDARD
TZOFFSETFROM:+0300
TZOFFSETTO:+0200
TZNAME:EET
DTSTART:20231029T010000
END:STANDARD
END:VTIMEZONE
BEGIN:VEVENT
DTSTART;TZID=Europe/Kiev:20230325T140000
DTEND;TZID=Europe/Kiev:20230325T160000
DTSTAMP:20260421T185113
CREATED:20230322T131743Z
LAST-MODIFIED:20230324T140118Z
UID:34874-1679752800-1679760000@museum-literature.odessa.ua
SUMMARY:"Оперний переполох" концерт присвячений Міжнародному Дню Театру!
DESCRIPTION:Дорогi друзi! \nМаємо честь запросити Вас на концерт “Оперний переполох” присвячений  Мiжнародному Дню Театру! \nКонцерт вiдбудеться 25 березня у Золотiм залi Лiтературного Музею о 14:00. \nМи готуємо для Вас найяскравiшу  програму! \nКвитки у касi музею! \n  \nКоли: 25 березня о 14:00\nДе: вул. Ланжеронівська\, 2
URL:https://museum-literature.odessa.ua/events/opernij-perepoloh-kontsert-prisvyachenij-mizhnarodnomu-dnyu-teatru/
LOCATION:Одеський літературній музей\, вул. Ланжеронівська \, 2\, м. Одеса\, Україна
ATTACH;FMTTYPE=image/jpeg:https://museum-literature.odessa.ua/wp-content/uploads/2023/03/photo_2023-03-20_13-20-40.jpg
END:VEVENT
END:VCALENDAR