BEGIN:VCALENDAR
VERSION:2.0
PRODID:-//Одеський літературний музей - ECPv5.4.0.2//NONSGML v1.0//EN
CALSCALE:GREGORIAN
METHOD:PUBLISH
X-WR-CALNAME:Одеський літературний музей
X-ORIGINAL-URL:https://museum-literature.odessa.ua
X-WR-CALDESC:Події за Одеський літературний музей
BEGIN:VTIMEZONE
TZID:UTC
BEGIN:STANDARD
TZOFFSETFROM:+0000
TZOFFSETTO:+0000
TZNAME:UTC
DTSTART:20190101T000000
END:STANDARD
END:VTIMEZONE
BEGIN:VEVENT
DTSTART;VALUE=DATE:20190801
DTEND;VALUE=DATE:20190901
DTSTAMP:20260421T215000
CREATED:20190804T054134Z
LAST-MODIFIED:20190814T104111Z
UID:18410-1564617600-1567295999@museum-literature.odessa.ua
SUMMARY:Персональна виставка художниці Еліни Фурси
DESCRIPTION:На виставці будуть представлені роботи\, написані в унікальній авторській техніці на чорній замші.\n“Навіть сама темна ніч може стати яскравіше за рахунок гри фарб! Нехай навіть вони всього лише на полотні художника”\, — розповідає Еліна. Ключовою ідеєю картин є акцент на стилі і грації. Індивідуальність і самобутність — це те\, що заворожує! Те\, що не дає вам відірвати погляд від картини. \nУ центрі полотен — граціозні дівчата з масивними прикрасами в автентичних нарядах\, і такі ж яскраві\, волелюбні тварини. Їх характер і зухвала натура сяють як діаманти\, привертаючи увагу глядача! А чорна замша\, як тиха ніч\, приховує все зайве і непотрібне\, щоб глядач міг не відволікаючись насолоджуватися красою головних героїв. \nЕліна Фурса — молода українська художниця\, реставратор. Випускниця факультету станкового живопису Харківського державного художнього училища. За результатами всеукраїнської виставки була зарахована без іспитів в Харківську державну художню Академію дизайну і мистецтв на факультет реставрації творів мистецтв\, яку закінчила з відзнакою. \nВідкриття виставки відбудеться в залі галері Одеського літературного музею 1 серпня в 17:00. \n\n\n\n\n\n\n\n\n\n\n\n\n\n\n\n\n	КВИТКИ У КАСІ МУЗЕЮ
URL:https://museum-literature.odessa.ua/events/personalna-vystavka-hudozhnytsi-eliny-fursy/
CATEGORIES:Музей
ATTACH;FMTTYPE=image/jpeg:https://museum-literature.odessa.ua/wp-content/uploads/2019/08/personalnaya-vystavka-hudozhnytsy-elyny-fursy.jpg
END:VEVENT
END:VCALENDAR