BEGIN:VCALENDAR
VERSION:2.0
PRODID:-//Одеський літературний музей - ECPv5.4.0.2//NONSGML v1.0//EN
CALSCALE:GREGORIAN
METHOD:PUBLISH
X-WR-CALNAME:Одеський літературний музей
X-ORIGINAL-URL:https://museum-literature.odessa.ua
X-WR-CALDESC:Події за Одеський літературний музей
BEGIN:VTIMEZONE
TZID:Europe/Kiev
BEGIN:DAYLIGHT
TZOFFSETFROM:+0200
TZOFFSETTO:+0300
TZNAME:EEST
DTSTART:20210328T010000
END:DAYLIGHT
BEGIN:STANDARD
TZOFFSETFROM:+0300
TZOFFSETTO:+0200
TZNAME:EET
DTSTART:20211031T010000
END:STANDARD
END:VTIMEZONE
BEGIN:VEVENT
DTSTART;TZID=Europe/Kiev:20210214T130000
DTEND;TZID=Europe/Kiev:20210214T170000
DTSTAMP:20260422T113048
CREATED:20210206T211929Z
LAST-MODIFIED:20210212T124143Z
UID:26451-1613307600-1613322000@museum-literature.odessa.ua
SUMMARY:ПОБАЧЕННЯ В МУЗЕЇ
DESCRIPTION:14 лютого особливий день – День усіх закоханих або День святого Валентина! \nВже давно стало доброю прикметою проводити це свято романтики\, кохання та ніжності якось незвично\, адже воно оповите багатьма легендами та домислами. Ніхто не знає чи існував Святий Валентин та чи дійсно він перший подарував коханій романтичну валентинку\, зате всі точно знають \, відчувають що є він\, цей зовсім особливий стан душі і навколишнього світу – Кохання .. й тому святу бути !! \n У цей день ми запрошуємо всіх закоханих ..та скептиків любові на Побачення. \nПОБАЧЕННЯ У МУЗЕЇ \nВсе що потрібно\, це прийти на рандеву у призначений час – 13:00 за адресою вул. Ланжеронівська\, 2\, Палац князя Гагаріна. І тут у невимушеній обстановці взяти участь в тематичному літературному квесті\, відвідати дві авторські екскурсії\, де дізнаєтеся неймовірні любовні історії письменників. Пізніше ви зможете відпочити від лавини літературних вражень насолодившись музикою у виконанні групи «The КРИК». Та на завершення вечора відбудеться відкриття персональної виставки живопису Стаса Жалобнюка «Майстер і Маргарита». \nНа пам’ять про «Побачення» залишаться ваші фотографії в палацових інтер’єрах\, в музеї діє фотозона. \n\nПРОГРАММА: \n13:00 «Iльф \ Петров. Любовна кореспонденція »(авторська екскурсія Влада Шостака). Крім всіма відомих романів Ільфа і Петрова\, у письменників були й епістолярні зворушливі твори в співавторстві з їхніми дружинами (Марія Тарасенко та Валентина Грюнзайд). У цих листах живе любов. \n14:00 «Лютневий ІНЬ-ЯН»: поетичні читання про любов та її наслідки. В ролях: Анна Стремінская\, Олександр Хінт\, Людмила Шарга\, Сергій Главацький\, Юлія Мельник\, Владислав Китик\, Кларисса Ярошевич\, Олександр Щедрінський\, Інна Саврасова. \n14:30 Група «The КРИК» з дивно романтичною гримучою сумішшю пісень в стилях «інді»\, «пост-панк»\, «реггі»\, «нова хвиля». \n15:00 «Напруженість почуттів» (авторська екскурсія Михайла Самофатова). \nНапруженість почуттів та їх високий підйом – відмінна риса творчості футуристів. Те ж саме можна сказати й щодо їхніх біографій. Футуристи самі переживали всередині себе усі почуття нового світу\, закохувалися. Багато з футуристів переживали романтичний підйом духу в Одесі – Ігор Северянин\, Василь Каменський\, Давид Бурлюк\, Велимир Хлєбніков\, й звичайно\, Володимир Маяковський! \n16:00 «Майстер та Маргарита» Стаса Жалобнюка. Пропонуємо вашій увазі виставку сучасного еротичної живопису. \nПротягом усього вечора діють фотозони та тематичний літературний квест. \n\n«Побачення в музеї» в найромантичніший день не залишить шансів для байдужості: концерт\, квест\, виставка та головне – занурення в особливу атмосферу високої літературної традиції Любові\, допоможуть зробити цей вечір незабутнім. \n  \nКвитки у касі музею. \nЦіна – 150 грн. \n  \n!! УВАГА АКЦІЯ !! \nДля Валентин та Валентинів\, а також для народжених 14 лютого ВХІД ВІЛЬНИЙ (за наданням документів\, що це посвідчують) \n  \nНагадуємо – відвідувачі музею зобов’язуються неухильно дотримуватися усіх санітарно-епідеміологічних правил: маскового режиму\, соціальної дистанції\, дезінфекції рук.
URL:https://museum-literature.odessa.ua/events/pobachennya-u-muzeyi/
LOCATION:Одеський літературній музей\, вул. Ланжеронівська \, 2\, м. Одеса\, Україна
ATTACH;FMTTYPE=image/jpeg:https://museum-literature.odessa.ua/wp-content/uploads/2021/02/145864671_242117197383687_5614252453666861426_n.jpg
END:VEVENT
END:VCALENDAR