BEGIN:VCALENDAR
VERSION:2.0
PRODID:-//Одеський літературний музей - ECPv5.4.0.2//NONSGML v1.0//EN
CALSCALE:GREGORIAN
METHOD:PUBLISH
X-WR-CALNAME:Одеський літературний музей
X-ORIGINAL-URL:https://museum-literature.odessa.ua
X-WR-CALDESC:Події за Одеський літературний музей
BEGIN:VTIMEZONE
TZID:Europe/Kiev
BEGIN:DAYLIGHT
TZOFFSETFROM:+0200
TZOFFSETTO:+0300
TZNAME:EEST
DTSTART:20220327T010000
END:DAYLIGHT
BEGIN:STANDARD
TZOFFSETFROM:+0300
TZOFFSETTO:+0200
TZNAME:EET
DTSTART:20221030T010000
END:STANDARD
END:VTIMEZONE
BEGIN:VEVENT
DTSTART;TZID=Europe/Kiev:20220126T100000
DTEND;TZID=Europe/Kiev:20220301T170000
DTSTAMP:20260422T041940
CREATED:20220126T141555Z
LAST-MODIFIED:20220126T141555Z
UID:29578-1643191200-1646154000@museum-literature.odessa.ua
SUMMARY:Подих дивовижного  міста
DESCRIPTION:Меморіальний музей К.Г. Паустовського запрошує на виставку “Подих дивовижного  міста”. \n  \nНа виставці експонуються графічні роботи одеських художників Сергія Рябченка та Аркадія Яковлева з колекції музею. \n“Подих дивовижного міста” – висловлювання Костянтина Паустовського про наше улюблене місто. Цей подих відчувається і на ліногравюрах Сергія Рябченка з серії “Пейзажі Одеси”\, виконаних в 1954-1961 роках\, і в роботах Аркадія Яковлева. \n  \nВиставка відкрита з 25 січня до 1 березня. \n 
URL:https://museum-literature.odessa.ua/events/podih-divovizhnogo-mista/
LOCATION:Меморіальний музей К. Г. Паустовського\, м. Одеса\, вул. Чорноморська\, 6.\, Украина
ATTACH;FMTTYPE=image/jpeg:https://museum-literature.odessa.ua/wp-content/uploads/2022/01/ur-2-scaled.jpg
END:VEVENT
END:VCALENDAR