BEGIN:VCALENDAR
VERSION:2.0
PRODID:-//Одеський літературний музей - ECPv5.4.0.2//NONSGML v1.0//EN
CALSCALE:GREGORIAN
METHOD:PUBLISH
X-WR-CALNAME:Одеський літературний музей
X-ORIGINAL-URL:https://museum-literature.odessa.ua
X-WR-CALDESC:Події за Одеський літературний музей
BEGIN:VTIMEZONE
TZID:Australia/Adelaide
BEGIN:STANDARD
TZOFFSETFROM:+1030
TZOFFSETTO:+0930
TZNAME:ACST
DTSTART:20250405T163000
END:STANDARD
BEGIN:DAYLIGHT
TZOFFSETFROM:+0930
TZOFFSETTO:+1030
TZNAME:ACDT
DTSTART:20251004T163000
END:DAYLIGHT
END:VTIMEZONE
BEGIN:VEVENT
DTSTART;TZID=Australia/Adelaide:20250925T150000
DTEND;TZID=Australia/Adelaide:20250925T160000
DTSTAMP:20260422T121901
CREATED:20250918T122004Z
LAST-MODIFIED:20250918T122448Z
UID:39906-1758812400-1758816000@museum-literature.odessa.ua
SUMMARY:Подвійна презентація поетичних збірок «Після і раніше» та «Босх» у межах проєкту “Недільні зустрічі”
DESCRIPTION:Любі друзі\, запрошуємо вас на подвійну презентацію: поетичної збірки одеської поетеси Анни Стремінської «Після і раніше» та колективної поетичної збірки Ігоря Божка\, Анни Стремінської\, Олександра Хінта «Босх» (видання виправлене та доповнене). \n  \nПрезентація відбудеться 25 вересня у Золотій Залі Одеського Літературного музею о 15:00 (у межах проєкту «Недільні зустрічі»). \n  \n«Після і раніше» – це нова поетична книжка-білінгва Анни Стремінської\, в якої документ часу та глибинна лірика зливаються в одне. Ці вірші – свідоцтво про життя під час війни та пам’ять про мир\, який був раніше. На сторінках збірки – трагедія та ніжність\, відчай та віра\, які звучать українською\, російською та у перекладах з других мов. Поезія Стремінської – це чесний голос поета\, який переживає та осмислює наш час через слово. Вірші Анни об’єднують тонку емоційність та філософську глибину. Книжка була видана у Києві у «Друкарському дворі Олега Федорова». Передмову до неї написав відомий поет Борис Херсонський. \n  \nКнижка «Босх» – це колективний проект трьох одеських поетів: Ігоря Божка\, Анни Стремінської\, Олександра Хінта. Поетична збірка складається з віршів\, які були написані в останні роки. Три автори об’єдналися\, щоб говорити про те\, що здається важливим: земля і хліб\, природа війни\, самотність\, любов і смерть\, паростки нового\, що пробиваються до нас із саркофага історії. \nЗбірка вийшла друком у 2024 році і викликала інтерес у читачів. До 2-го видання увійшли також нові вірші. Книжка видана в Одесі\, у видавництві «Бондаренко М.О.». \n  \nІлюстрації та дизайн обкладинок – Ігор Божко. \n  \nДЕ: вул. Ланжеронівська\, 2\nКОЛИ: 25 вересня о 15:00 \nВХІД ВІЛЬНИЙ \nПодробиці за номером +38 (048) 722-33-70
URL:https://museum-literature.odessa.ua/events/podvijna-prezentatsiya-poetichnih-zbirok-pislya-i-ranishe-ta-bosh-u-mezhah-proyektu-nedilni-zustrichi/
LOCATION:Одеський літературній музей\, вул. Ланжеронівська \, 2\, м. Одеса\, Україна
ATTACH;FMTTYPE=image/jpeg:https://museum-literature.odessa.ua/wp-content/uploads/2025/09/Podvijna-prezentatsiya-poetichnih-zbirok-2.jpg
END:VEVENT
END:VCALENDAR