BEGIN:VCALENDAR
VERSION:2.0
PRODID:-//Одеський літературний музей - ECPv5.4.0.2//NONSGML v1.0//EN
CALSCALE:GREGORIAN
METHOD:PUBLISH
X-WR-CALNAME:Одеський літературний музей
X-ORIGINAL-URL:https://museum-literature.odessa.ua
X-WR-CALDESC:Події за Одеський літературний музей
BEGIN:VTIMEZONE
TZID:UTC
BEGIN:STANDARD
TZOFFSETFROM:+0000
TZOFFSETTO:+0000
TZNAME:UTC
DTSTART:20190101T000000
END:STANDARD
END:VTIMEZONE
BEGIN:VEVENT
DTSTART;VALUE=DATE:20190713
DTEND;VALUE=DATE:20190714
DTSTAMP:20260421T214414
CREATED:20190711T200827Z
LAST-MODIFIED:20190712T060131Z
UID:18262-1562976000-1563062399@museum-literature.odessa.ua
SUMMARY:«Поговорим о странностях любви» з Оленою Каракіною
DESCRIPTION:13 липня о 16: 00 у залі галереї Одеського літературного музею відбудеться заключна зустріч-бесіда проекту «Поговорим о странностях любви» з Оленою Каракіною «Они женятся\, чтобы не быть одинокими…». Исаак Бабель\, который не мог быть не\nженат. \nФігура «короля одесской литературной школы»\, як і раніше продовжує викликати щире захоплення у одних людей та .. полум’яну лють у інших. Ісаак Бабель за життя був чоловіком потайним\, тому й загадковим. Загадковість ця притягувала багатьох\, але здатна була відштовхнути\, викликати роздратування та ненависть нетямущих. \nЗагибель письменника в сталінських застінках\, десятиліття замовчування тільки згустили емоційну атмосферу\, в якій читається його проза\, впізнаються подробиці біографії Ісаака Еммануїловича. \nБезперечно одне — жінки були до Бабелю прихильні\, та й він платив тим же. Хоча ніхто не може уявити автора «Конармії» та «Одеських оповідань» смертельно закоханим — про це немає ні в прозі\, ні в автобіографії\, ні в мемуарах — але важко собі уявити Бабеля не одружений. Три жінки ділили з ним життя. Остання з дружин писала та говорила про чоловіка до кінця своїх днів. \n\n\n\n\n\n\n\n\n\n\n\n\n\n\n\n\n	КВИТКИ У КАСІ МУЗЕЮ
URL:https://museum-literature.odessa.ua/events/pogovorym-o-strannostyah-lyubvy-z-olenoyu-karakinoyu/
CATEGORIES:Музей
ATTACH;FMTTYPE=image/jpeg:https://museum-literature.odessa.ua/wp-content/uploads/2019/07/o-strannostyah-lyubvy-2.jpg
END:VEVENT
END:VCALENDAR