BEGIN:VCALENDAR
VERSION:2.0
PRODID:-//Одеський літературний музей - ECPv5.4.0.2//NONSGML v1.0//EN
CALSCALE:GREGORIAN
METHOD:PUBLISH
X-WR-CALNAME:Одеський літературний музей
X-ORIGINAL-URL:https://museum-literature.odessa.ua
X-WR-CALDESC:Події за Одеський літературний музей
BEGIN:VTIMEZONE
TZID:Europe/Kiev
BEGIN:DAYLIGHT
TZOFFSETFROM:+0200
TZOFFSETTO:+0300
TZNAME:EEST
DTSTART:20210328T010000
END:DAYLIGHT
BEGIN:STANDARD
TZOFFSETFROM:+0300
TZOFFSETTO:+0200
TZNAME:EET
DTSTART:20211031T010000
END:STANDARD
END:VTIMEZONE
BEGIN:VEVENT
DTSTART;TZID=Europe/Kiev:20210708T180000
DTEND;TZID=Europe/Kiev:20210708T180000
DTSTAMP:20260422T073537
CREATED:20210706T140442Z
LAST-MODIFIED:20210706T140442Z
UID:28362-1625767200-1625767200@museum-literature.odessa.ua
SUMMARY:«ПОНАЕХАВШИЕ» презентація документального фільму
DESCRIPTION:Одеський меморіальний музей К. Г. Паустовського продовжує історико – літературну програму «Книжкові прогулянки  Одесою» \n8 липня 2021 року відбудеться презентація документального фільму \n  \n«ПОНАЕХАВШИЕ»  \n     Фільм присвячений\, так званим\, новим одеситам. Людям\, які в силу різних життєвих обставин змушені були залишити рідну домівку і переїхати жити до Одеси. В даному випадку мова йде про біженців з Донбасу. \n     Гості нашого музею мають можливість задати питання авторам фільму\, в якому\, до речі\, звучить пісня на вірш одеського поета Юрія Михайлика. \n\nЩо таке «Книжкові прогулянки  Одесою»? \n\nЦе зустрічі с давно знайомими і маловідомими книгами\, в яких зображується наше улюблене місто.\nЦе прогулянки по його центральним вулицям і непримітним провулкам\, що зберігають пам`ять про незвичайні і яскраві історії його мешканців.\nЦе презентації різноманітних видань про Одесу – відеофільмів та книжок. А також зустрічі з авторами видань та видавцями.\n\nЗапрошуємо всіх бажаючих \n8 липня 2021 року о 18 годині. \nВхід вільний \nАдреса музею: вул. Чорноморська\,6.       тел. 722 84 47
URL:https://museum-literature.odessa.ua/events/ponaehavshie-prezentatsiya-dokumentalnogo-filmu/
LOCATION:Меморіальний музей К. Г. Паустовського\, м. Одеса\, вул. Чорноморська\, 6.\, Украина
ATTACH;FMTTYPE=image/jpeg:https://museum-literature.odessa.ua/wp-content/uploads/2021/07/4304830984.jpg
END:VEVENT
END:VCALENDAR