BEGIN:VCALENDAR
VERSION:2.0
PRODID:-//Одеський літературний музей - ECPv5.4.0.2//NONSGML v1.0//EN
CALSCALE:GREGORIAN
METHOD:PUBLISH
X-WR-CALNAME:Одеський літературний музей
X-ORIGINAL-URL:https://museum-literature.odessa.ua
X-WR-CALDESC:Події за Одеський літературний музей
BEGIN:VTIMEZONE
TZID:Europe/Kiev
BEGIN:DAYLIGHT
TZOFFSETFROM:+0200
TZOFFSETTO:+0300
TZNAME:EEST
DTSTART:20200329T010000
END:DAYLIGHT
BEGIN:STANDARD
TZOFFSETFROM:+0300
TZOFFSETTO:+0200
TZNAME:EET
DTSTART:20201025T010000
END:STANDARD
END:VTIMEZONE
BEGIN:VEVENT
DTSTART;TZID=Europe/Kiev:20200102T100000
DTEND;TZID=Europe/Kiev:20200220T170000
DTSTAMP:20260421T184501
CREATED:20200111T150719Z
LAST-MODIFIED:20200131T115618Z
UID:20111-1577959200-1582218000@museum-literature.odessa.ua
SUMMARY:«Різдвяні листівки» виставка із зібрання  Анатолія Дроздовського
DESCRIPTION:Меморіальний музей Костянтина Паустовського запрошує на виставку \n«Різдвяні листівки» із зібрання відомого колекціонера Анатолія Дроздовського \n  \nДо уваги відвідувачів пропонуються різдвяні та новорічні листівки кінця ХІХ – початку ХХ сторіччя. В цей час поширюється традиція посилати привітання зі святами поштою. \nСеред рідкісних листівок є навіть такі\, що зображують новинку того часу – телеграму. \n  \nАдреса музею: вул. Чорноморська\, 6.\nтел. 722 84 47
URL:https://museum-literature.odessa.ua/events/rizdvyani-lystivky-vystavka-iz-zibrannya-anatoliya-drozdovskogo/
LOCATION:Меморіальний музей К. Г. Паустовського\, м. Одеса\, вул. Чорноморська\, 6.\, Украина
ATTACH;FMTTYPE=image/jpeg:https://museum-literature.odessa.ua/wp-content/uploads/2020/01/20191220_105411.jpg
END:VEVENT
END:VCALENDAR