BEGIN:VCALENDAR
VERSION:2.0
PRODID:-//Одеський літературний музей - ECPv5.4.0.2//NONSGML v1.0//EN
CALSCALE:GREGORIAN
METHOD:PUBLISH
X-WR-CALNAME:Одеський літературний музей
X-ORIGINAL-URL:https://museum-literature.odessa.ua
X-WR-CALDESC:Події за Одеський літературний музей
BEGIN:VTIMEZONE
TZID:Australia/Adelaide
BEGIN:STANDARD
TZOFFSETFROM:+1030
TZOFFSETTO:+0930
TZNAME:ACST
DTSTART:20250405T163000
END:STANDARD
BEGIN:DAYLIGHT
TZOFFSETFROM:+0930
TZOFFSETTO:+1030
TZNAME:ACDT
DTSTART:20251004T163000
END:DAYLIGHT
END:VTIMEZONE
BEGIN:VEVENT
DTSTART;TZID=Australia/Adelaide:20251227T140000
DTEND;TZID=Australia/Adelaide:20251227T160000
DTSTAMP:20260422T132344
CREATED:20251227T105535Z
LAST-MODIFIED:20251227T105535Z
UID:40160-1766844000-1766851200@museum-literature.odessa.ua
SUMMARY:Різдвяний концерт «Музика кохання»
DESCRIPTION:27 грудня о 14:00 Одеський літературний музей запрошує на особливу музичну подію\, сповнену класичної краси\, живого вокалу та святкової атмосфери. \nКонцерт відбувається за підтримки Департаменту культури\, національностей\, релігій та охорони об’єктів культурної спадщини Одеської обласної державної адміністрації. \n✨ У програмі — вишукана вокальна й інструментальна музика у виконанні визнаних майстрів сцени\, солістів провідних філармоній та лауреатів міжнародних конкурсів. \n🎤 Солісти концерту:\n• Ханна Шафажинська — світова зірка\, солістка провідних оперних театрів (сопрано)\n• Юліанна Панченко — заслужена артистка естрадного мистецтва України (сопрано)\n• Лілія Давиденко — заслужена артистка України\, солістка Одеської обласної філармонії (мецо-сопрано)\n• Дар’я Сердюк — солістка Одеської обласної філармонії (сопрано) \n🌍 Лауреати міжнародних конкурсів:\nКсенія Бахчалова (сопрано)\nТетяна Якимова (сопрано)\nЗахар Пазініч (баритон)\nРуслан Авдюгін (фортепіано)\nДжина Чензин Ван (сопрано\, Китай)\nЦі Цзяньсун (баритон\, Китай) \n🎻 Музичний супровід — струнний квартет classic «STRETTA»\nХудожній керівник — Олена Базан \n🎼 Режисерка концерту — Юліанна Панченко\n🎧 Звукорежисер — Олександр Охрій\n🎙 Ведуча концерту — Катерина Єргєєва \n  \n✨ «Музика кохання» — це зустріч із живим звучанням\, щирими емоціями та різдвяним теплом в одному з найкрасивіших і найкамерніших музеїв Одеси. \n  \n📍 Одеський літературний музей\, вул. Ланжеронівська\, 2\n🗓   27.12 о 14:00 \n🎟  Квитки — в касі музею
URL:https://museum-literature.odessa.ua/events/rizdvyanij-kontsert-muzika-kohannya/
LOCATION:Одеський літературній музей\, вул. Ланжеронівська \, 2\, м. Одеса\, Україна
ATTACH;FMTTYPE=image/png:https://museum-literature.odessa.ua/wp-content/uploads/2025/12/Muzika-kohannya.png
END:VEVENT
END:VCALENDAR