BEGIN:VCALENDAR
VERSION:2.0
PRODID:-//Одеський літературний музей - ECPv5.4.0.2//NONSGML v1.0//EN
CALSCALE:GREGORIAN
METHOD:PUBLISH
X-WR-CALNAME:Одеський літературний музей
X-ORIGINAL-URL:https://museum-literature.odessa.ua
X-WR-CALDESC:Події за Одеський літературний музей
BEGIN:VTIMEZONE
TZID:Australia/Adelaide
BEGIN:STANDARD
TZOFFSETFROM:+1030
TZOFFSETTO:+0930
TZNAME:ACST
DTSTART:20240406T163000
END:STANDARD
BEGIN:DAYLIGHT
TZOFFSETFROM:+0930
TZOFFSETTO:+1030
TZNAME:ACDT
DTSTART:20241005T163000
END:DAYLIGHT
END:VTIMEZONE
BEGIN:VEVENT
DTSTART;TZID=Australia/Adelaide:20240310T130000
DTEND;TZID=Australia/Adelaide:20240310T160000
DTSTAMP:20260422T133116
CREATED:20240307T214221Z
LAST-MODIFIED:20240307T214221Z
UID:38384-1710075600-1710086400@museum-literature.odessa.ua
SUMMARY:Rонцерт «Тарас Шевченко - 210 років»
DESCRIPTION:Запрошуємо на концерт «Тарас Шевченко – 210 років» учнів Одеського Державного музичного ліцею ім. проф. П. С. Столярського : Ян Іванов\, Марина Мерник\, Уляна Волкова\, Анастасія Кравченко\, Софія Дудар\, Мирон Малицький\, Поліна Нефідюк\, Аліса – Марія Ворох\, Катерина Кривуля.\nВикладач – методист Дідушок Ірина Львівна.\n\nВ концерті приймають участь струнний квінтет солістів оркестру Одеського національного академічного театру опери та балету: Олена Іонова\, Олександр Дворніцин\, Юрій Данчев\, Наталія Мармусевич\, Андрій Селін.\nВедуча: Лауреат Міжнародних конкурсів Інга Мартинова.\n\nДЕ: вул. Ланжеронівська\, 2\nКОЛИ: 10 березня о 13:00\n\nВХІД ВІЛЬНИЙ.\n\nПодробиці за номером +38 (048) 722-33-70.
URL:https://museum-literature.odessa.ua/events/rontsert-taras-shevchenko-210-rokiv/
ATTACH;FMTTYPE=image/jpeg:https://museum-literature.odessa.ua/wp-content/uploads/2024/03/kontsert-210.jpg
END:VEVENT
END:VCALENDAR