BEGIN:VCALENDAR
VERSION:2.0
PRODID:-//Одеський літературний музей - ECPv5.4.0.2//NONSGML v1.0//EN
CALSCALE:GREGORIAN
METHOD:PUBLISH
X-WR-CALNAME:Одеський літературний музей
X-ORIGINAL-URL:https://museum-literature.odessa.ua
X-WR-CALDESC:Події за Одеський літературний музей
BEGIN:VTIMEZONE
TZID:Europe/Kiev
BEGIN:DAYLIGHT
TZOFFSETFROM:+0200
TZOFFSETTO:+0300
TZNAME:EEST
DTSTART:20220327T010000
END:DAYLIGHT
BEGIN:STANDARD
TZOFFSETFROM:+0300
TZOFFSETTO:+0200
TZNAME:EET
DTSTART:20221030T010000
END:STANDARD
END:VTIMEZONE
BEGIN:VEVENT
DTSTART;TZID=Europe/Kiev:20221029T140000
DTEND;TZID=Europe/Kiev:20221029T160000
DTSTAMP:20260422T010225
CREATED:20221026T120916Z
LAST-MODIFIED:20221027T123402Z
UID:34114-1667052000-1667059200@museum-literature.odessa.ua
SUMMARY:"Шекспір у музиці" концерт музично-літературного салону "Bel Canto"
DESCRIPTION:Дорогі друзі!\n\nМи маємо честь запросити Вас на другий концерт афіші Музично-літературного салону “Bel Canto”- “Шекспір у музиці”\, який відбудеться 29 жовтня о 14:00 годині у Галереї Одеського літературного Музею.\n\nКонцерт пройде в незвичному форматі Концерт-мультимедія!\n\nВас чекають костюмовані сцени з опер\, в основі яких лежать безсмертні твори Уільяма Шекспіра: “Ромео та Джульєтта”\, “Отелло”\, “Гамлет” та “Макбет”.\n\nМи чекаємо на Вас!
URL:https://museum-literature.odessa.ua/events/shekspir-u-muzitsi-kontsert-muzichno-literaturnogo-salonu-bel-canto/
LOCATION:Одеський літературній музей\, вул. Ланжеронівська \, 2\, м. Одеса\, Україна
ATTACH;FMTTYPE=image/jpeg:https://museum-literature.odessa.ua/wp-content/uploads/2022/10/IMG-fa70a50b3011ce18b29d4545f4bb5acb-V.jpg
END:VEVENT
END:VCALENDAR