BEGIN:VCALENDAR
VERSION:2.0
PRODID:-//Одеський літературний музей - ECPv5.4.0.2//NONSGML v1.0//EN
CALSCALE:GREGORIAN
METHOD:PUBLISH
X-WR-CALNAME:Одеський літературний музей
X-ORIGINAL-URL:https://museum-literature.odessa.ua
X-WR-CALDESC:Події за Одеський літературний музей
BEGIN:VTIMEZONE
TZID:Europe/Kiev
BEGIN:DAYLIGHT
TZOFFSETFROM:+0200
TZOFFSETTO:+0300
TZNAME:EEST
DTSTART:20210328T010000
END:DAYLIGHT
BEGIN:STANDARD
TZOFFSETFROM:+0300
TZOFFSETTO:+0200
TZNAME:EET
DTSTART:20211031T010000
END:STANDARD
END:VTIMEZONE
BEGIN:VEVENT
DTSTART;TZID=Europe/Kiev:20210930T143000
DTEND;TZID=Europe/Kiev:20210930T170000
DTSTAMP:20260422T055248
CREATED:20210928T134126Z
LAST-MODIFIED:20210928T134126Z
UID:29071-1633012200-1633021200@museum-literature.odessa.ua
SUMMARY:«СТОРІНКИ ІСТОРІЇ СВІТОВОЇ МУЗИЧНОЇ КУЛЬТУРИ»
DESCRIPTION:Молодіжний музично-просвітницький центр «Орфей» запрошує всіх бажаючих в Золотий зал Одеського літературного музею (вул. Ланжеронівська\, 2) на цикл концертів\, присвячених історії музичної культури. Другий концерт сезону відбудеться у четвер\, 30 вересня. \nУ програмі прозвучать твори Г.Ф. Генделя\, В.А. Моцарта\, Ф. Шопена\, Ф. Ліста\, Дж. Верді\, М. Равеля\, О. Аляб’єва\, П. Чайковського\, М. Римського-Корсакова\, А. Кос-Антокольського. \nВиконавці – Олександра Домащук (сопрано)\, Світлана Івахіна (сопрано)\, Ганна Бакач (сопрано)\, Максим Мороз (баритон)\, Ірина Стоянова (фортепіано)\, Катерина Привалова (фортепіано)\, Ася Смагіна (фортепіано)\, Чен Давей (фортепіано). \n  \nКонцертмейстери – Наталя Ізуграфова\, Інна Ісакова. \nВедуча – Вікторія Данилюк. \nПочаток – о 14:30 \nКвитки – в касі музею. \n  \nНагадуємо – відвідувачі музею зобов’язуються неухильно дотримуватися всіх санітарно-епідеміологічніх правил: масочного режиму\, соціальної дистанції\, дезінфекції рук.
URL:https://museum-literature.odessa.ua/events/storinki-istoriyi-svitovoyi-muzichnoyi-kulturi/
LOCATION:Одеський літературній музей\, вул. Ланжеронівська \, 2\, м. Одеса\, Україна
ATTACH;FMTTYPE=image/jpeg:https://museum-literature.odessa.ua/wp-content/uploads/2021/09/226601_orRZHSHGSH.jpg
END:VEVENT
END:VCALENDAR