BEGIN:VCALENDAR
VERSION:2.0
PRODID:-//Одеський літературний музей - ECPv5.4.0.2//NONSGML v1.0//EN
CALSCALE:GREGORIAN
METHOD:PUBLISH
X-WR-CALNAME:Одеський літературний музей
X-ORIGINAL-URL:https://museum-literature.odessa.ua
X-WR-CALDESC:Події за Одеський літературний музей
BEGIN:VTIMEZONE
TZID:UTC
BEGIN:STANDARD
TZOFFSETFROM:+0000
TZOFFSETTO:+0000
TZNAME:UTC
DTSTART:20190101T000000
END:STANDARD
END:VTIMEZONE
BEGIN:VEVENT
DTSTART;TZID=UTC:20190510T160000
DTEND;TZID=UTC:20190524T170000
DTSTAMP:20260422T043823
CREATED:20190528T073100Z
LAST-MODIFIED:20190528T080436Z
UID:17205-1557504000-1558717200@museum-literature.odessa.ua
SUMMARY:«STUDIEN» виставка живопису Герхарда Кранера
DESCRIPTION:10 травня о 16:00 у галереї Одеського літературного музею відбудеться відкриття виставки живопису німецького художника Герхарда Кранера.\n\nГерхард Кранер\, німецький театральний режисер та художник народився у 1942 р. у Гері (Тюрінген).  У 1964 р. закінчив гімназію у Берлині. З 1966 по 1971 рр. отримав художню освіту у Марбурзі\, Брауншвайгу\, Штутгарті. \nЗ 1972 по 1974 був вчителем образотворчого мистецтва. \nУ 1974 р. створив Акціонстеатр\, та був його художнім керівником. З 1984 по 2013 рр.  —  художнє керівництво та управління об’єднанням театру аматорів  землі Баден-Вюртемберг. З 1991 по 2015 рр. кожні три роки займався організацією та художнім керівництвом Міжнародним театральним інтернаціональним фестивалем у Донцдорфі.  За допомогою цих фестивалей встановлено контакт з театром-студією поезії та драми з Одеси. Протягом десятиліть було налагоджено  та підтримується живий театральний обмін. \nОсновний ухил творчості Герхарда Кранера\, як художника\, лежить на живописних та графічних роботах\, які названі «Студії чи начерки». Основні теми його творчості: відносини між полами «чоловік — жінка»\, проблематика війни\, насилля\, руйнування\, смерті\, які грають велику роль у сучасному суспільстві та й в усьому світі. Крок від чистого опису до заклику к діям зроблено\, що становиться на виставці дуже зримим. \nВиставка триватиме до 24.05.19\nЗапрошуються всі\, хто цікавиться сучасним європейським живописом.
URL:https://museum-literature.odessa.ua/events/studien-vystavka-zhyvopysu-gerharda-kranera/
CATEGORIES:Музей
ATTACH;FMTTYPE=image/jpeg:https://museum-literature.odessa.ua/wp-content/uploads/2019/05/studien-vystavka-zhyvopysu-gerharda-kranera-event.jpg
END:VEVENT
END:VCALENDAR