BEGIN:VCALENDAR
VERSION:2.0
PRODID:-//Одеський літературний музей - ECPv5.4.0.2//NONSGML v1.0//EN
CALSCALE:GREGORIAN
METHOD:PUBLISH
X-WR-CALNAME:Одеський літературний музей
X-ORIGINAL-URL:https://museum-literature.odessa.ua
X-WR-CALDESC:Події за Одеський літературний музей
BEGIN:VTIMEZONE
TZID:UTC
BEGIN:STANDARD
TZOFFSETFROM:+0000
TZOFFSETTO:+0000
TZNAME:UTC
DTSTART:20190101T000000
END:STANDARD
END:VTIMEZONE
BEGIN:VEVENT
DTSTART;VALUE=DATE:20190829
DTEND;VALUE=DATE:20190918
DTSTAMP:20260421T220552
CREATED:20190828T191402Z
LAST-MODIFIED:20190828T192711Z
UID:18800-1567036800-1568764799@museum-literature.odessa.ua
SUMMARY:СВІТЛАНА ЮСІМ Автографи передмістя – 2
DESCRIPTION:живопис – графіка – інсталяція\n\n29.08.2019 – 17.09.2019\nвідкриття 29.08 о 17:00 \n29 серпня о 18:00 у Великому залі галереї Одеського літературного музею відбудеться відкриття виставки Світлани Юсим «Автографи передмістя – 2» живопис – графіка – інсталяція. \nГоворячи про свої роботи\, сама художниця визнає: «Пластична мову моїх робіт склалася цілком природно. Її становлення почалося з усвідомлення того\, що натуралістична зображальність не може бути метою – дійсність потребує інтерпретації. Тобто мистецтво не є прямим відображенням дійсності… Останнім часом я часто вводжу в свої роботи тексти або окремі слова; або просто жесть\, відповідний руху пишучої руки\, яка залишає свій слід. Ці тексти в більшості випадків не призначені для прочитання. Вони можуть бути відгуком якихось лунаючих у свідомості рядків». \nСказане дає підставу говорити про «художній текст» Світлани Юсим як про репрезентацію «рівня другого ряду»\, що стоїть «за спиною» видимого безпосередньо на поверхні холста. \nУ даному разі можна говорити про те\, що художній твір виступає заміною реальності\, з якої воно виникло\, не будучи\, однак\, нею. Воно нагадує нашій буденній свідомості про те\, що за її межами є щось більше\, ніж ми відчуваємо у своїй повсякденності. Про те\, що світ речей та поточних подій не може впоратися з поточним прагненням людини розширити ареал свого існування\, оскільки не враховує одвічного закону – справжня раціональність буденного життя\, якщо вона прагне до протягу у часі\, повинна включати у свій зміст латентне та ірраціональне в якості невід’ємної частини. \nБудуючи художній простір у відповідності зі своїм баченням\, Світлана Юсим обмежує пошуки втраченої цілісності виведенням вихідних знаків\, що виконують функцію ключа до дешифрування втрачених кодів\, що відкриває шлях до гармонії. Частково цей пошук подібний зі спробами сучасного японського художника русек Марімото\, чиє мистецтво грунтується на утриманні прямого безперервного зв’язку з історико-культурним змістом ієрогліфа як надійного ретрансляційного каналу\, по якому в сучасне життя проникає не відфільтрована теперішньому станом технизированной культури інформація про безперервність життя – її вічно оновлюваної субстанції – прото-образі перетвореним часом в мета-образ Буття. \nЩо стосується реконструювання «рунічного письма» в якості художньо образу\, представленого в роботах Світлани Юсим\, про який вона говорить сама\, то його ізотеричний зміст вимагає від художника граничного духовно-інтелектуального зосередження\, оскільки передбачає\, з одного боку\, безпомилкове попадання в пластичну конфігурацію «образу-знаку »\, з іншого – вписання гіпотетично виниклого артефакту в контекст культурного потоку\, в якому знаходиться глядач. \nПодібна комбинаторика цветографических та семантичних фігур створює новий смислообраз\, переконливість якого сприймається повноцінною частиною художнього простору світу\, відбудованого зусиллями художника. \nВиставка діє до 17.09 з 10:00 до 17:00 (щодня\, крім понеділка).\nКвитки у касі музею.
URL:https://museum-literature.odessa.ua/events/svitlana-yusim-avtografy-peredmistya-2/
CATEGORIES:Музей
ATTACH;FMTTYPE=image/jpeg:https://museum-literature.odessa.ua/wp-content/uploads/2019/08/svetlana-yusym-2.jpg
END:VEVENT
END:VCALENDAR