BEGIN:VCALENDAR
VERSION:2.0
PRODID:-//Одеський літературний музей - ECPv5.4.0.2//NONSGML v1.0//EN
CALSCALE:GREGORIAN
METHOD:PUBLISH
X-WR-CALNAME:Одеський літературний музей
X-ORIGINAL-URL:https://museum-literature.odessa.ua
X-WR-CALDESC:Події за Одеський літературний музей
BEGIN:VTIMEZONE
TZID:Europe/Kiev
BEGIN:DAYLIGHT
TZOFFSETFROM:+0200
TZOFFSETTO:+0300
TZNAME:EEST
DTSTART:20200329T010000
END:DAYLIGHT
BEGIN:STANDARD
TZOFFSETFROM:+0300
TZOFFSETTO:+0200
TZNAME:EET
DTSTART:20201025T010000
END:STANDARD
END:VTIMEZONE
BEGIN:VEVENT
DTSTART;TZID=Europe/Kiev:20201001T143000
DTEND;TZID=Europe/Kiev:20201001T163000
DTSTAMP:20260422T130356
CREATED:20200928T103118Z
LAST-MODIFIED:20200928T103118Z
UID:24523-1601562600-1601569800@museum-literature.odessa.ua
SUMMARY:Цикл концертів «СТОРІНКИ ІСТОРІЇ СВІТОВОЇ МУЗИЧНОЇ КУЛЬТУРИ»
DESCRIPTION:Молодіжний музично-просвітницький центр «Орфей» запрошує всіх бажаючих в Золотий зал Одеського літературного музею (вул. Ланжеронівська\, 2) на цикл концертів\, присвячених історії музичної культури. Відкриття сезону відбудеться у четвер\, 1 жовтня. \nУ програмі прозвучать твори Й.С. Баха\, Г.Ф. Генделя\, В.А. Моцарта\, Ш. Гуно\, Ж. Массне\, Дж. Пуччіні\, Д. Мійо\, А. П’яццоли\, Т. Йошімацу\, Р. Фрімля. \nВиконавці – Аліна Кучерова (сопрано)\, Вікторія Балан (сопрано)\, Олена Дмитрієва (сопрано)\, Валерій Казаков (віолончель)\, лауреати міжнародних конкурсів Ганна Степанова (саксофон)\, Олександр Трухін (фортепіано). \nКонцертмейстери – Ольга Лісова\, Аліна Падалка\, Ганна Яцула. \nВедуча – Вікторія Данилюк. \n  \nПочаток – о 14:30 \nКвитки – в касі музею. \n  \nНагадуємо – відвідувачі музею зобов’язуються неухильно дотримуватися всіх санітарно-епідеміологічніх правил: масочного режиму\, соціальної дистанції\, дезінфекції рук.
URL:https://museum-literature.odessa.ua/events/tsykl-kontsertiv-storinky-istoriyi-svitovoyi-muzychnoyi-kultury/
LOCATION:Одеський літературній музей\, вул. Ланжеронівська \, 2\, м. Одеса\, Україна
CATEGORIES:Art
ATTACH;FMTTYPE=image/jpeg:https://museum-literature.odessa.ua/wp-content/uploads/2020/09/nastol.com_.ua-4844.jpg
END:VEVENT
END:VCALENDAR