BEGIN:VCALENDAR
VERSION:2.0
PRODID:-//Одеський літературний музей - ECPv5.4.0.2//NONSGML v1.0//EN
CALSCALE:GREGORIAN
METHOD:PUBLISH
X-WR-CALNAME:Одеський літературний музей
X-ORIGINAL-URL:https://museum-literature.odessa.ua
X-WR-CALDESC:Події за Одеський літературний музей
BEGIN:VTIMEZONE
TZID:UTC
BEGIN:STANDARD
TZOFFSETFROM:+0000
TZOFFSETTO:+0000
TZNAME:UTC
DTSTART:20190101T000000
END:STANDARD
END:VTIMEZONE
BEGIN:VEVENT
DTSTART;VALUE=DATE:20190915
DTEND;VALUE=DATE:20190916
DTSTAMP:20260421T204102
CREATED:20190917T100328Z
LAST-MODIFIED:20190917T100457Z
UID:19539-1568505600-1568591999@museum-literature.odessa.ua
SUMMARY:Творча зустріч з Інною Богачінской «ІННАземні роздуми».
DESCRIPTION:15 вересня в 14:00 в Одеському літературному музеї відбудеться творча зустріч з Інною Богачінскої «ІННАземні роздуми». \nІнна – відомий поет\, журналіст\, перекладач\, Академік Російської Академії народного мистецтва. Автор 5 книг поезії та літературних есе: «СТИХиЯ»\, «Підтексти». «У четвертому вимірі»\, «Переклад з космічного»\, «Репортаж з паралельного світу». Готується до видання її 6-я книга «ІННАземні роздуми». \nІнна живе у Нью-Йорку вже 40 років. Але не розриває зв’язків з рідним для неї містом\, в своєму поетичному доробку зачіпаючи глибинні пласти нашого внутрішнього Всесвіту та зовнішніх реалій намагаючись знайти відповіді на хвилюючі питання спільного нашого існування та вселити в людей віру\, життєстійкість  і загальну любов. \nОсь що писав про поезію Інни Богачінской Андрій Вознесенський\, яким вона дружила кілька десятиліть: \n«Що мені хотілося сказати про вірші Інни Богачінскої? Це талант незвичайний. Як все яскраві обдарування\, вона протистоїть хвилі\, тобто якщо мода на неокласицизм\, якщо мода на античні символи\, на мармурову холодність в поезії\, то вона залишається завжди собою. Я б сказав\, що це московська школа поезії\, яка йде від Цвєтаєвої\, від фарб\, від буяння\, від енергії. І протистоїть глянцю\, холодності. \nІнна Богачінская йде від «Слова о полку Ігоревім»\, і від російських футуристів\, та від поезії десь Юнни Моріц\, і Белли Ахмадуліної\, її прекрасних попередниць. Ось ця непересічність\, незаспокоєність якась\, розумієте\, ось це найголовніше в її віршах. \n    Що мені хочеться? Поезія не любить платонічного ставлення до неї. Послухали. Поаплодували. Розійшлися. Мені хочеться\, щоб залишилися ці вірші в вас. Мені хочеться\, щоб залишилися вони не тільки в вас\, але й на папері\, щоб скоріше вийшла нова книга Інни Богачінскої. Це особливий голос. » \n  \nВХІД ВІЛЬНИЙ
URL:https://museum-literature.odessa.ua/events/tvorcha-zustrich-z-innoyu-bogachinskoj-innazemni-rozdumy/
CATEGORIES:Музей
ATTACH;FMTTYPE=image/jpeg:https://museum-literature.odessa.ua/wp-content/uploads/2019/09/tvorcha-zustrich-z-innoyu-bogachinskoj-innazemni-rozdumy-1.jpg
END:VEVENT
END:VCALENDAR