BEGIN:VCALENDAR
VERSION:2.0
PRODID:-//Одеський літературний музей - ECPv5.4.0.2//NONSGML v1.0//EN
CALSCALE:GREGORIAN
METHOD:PUBLISH
X-WR-CALNAME:Одеський літературний музей
X-ORIGINAL-URL:https://museum-literature.odessa.ua
X-WR-CALDESC:Події за Одеський літературний музей
BEGIN:VTIMEZONE
TZID:Europe/Kiev
BEGIN:DAYLIGHT
TZOFFSETFROM:+0200
TZOFFSETTO:+0300
TZNAME:EEST
DTSTART:20200329T010000
END:DAYLIGHT
BEGIN:STANDARD
TZOFFSETFROM:+0300
TZOFFSETTO:+0200
TZNAME:EET
DTSTART:20201025T010000
END:STANDARD
END:VTIMEZONE
BEGIN:VEVENT
DTSTART;TZID=Europe/Kiev:20200211T160000
DTEND;TZID=Europe/Kiev:20200211T170000
DTSTAMP:20260422T102047
CREATED:20200207T114702Z
LAST-MODIFIED:20200207T114702Z
UID:20513-1581436800-1581440400@museum-literature.odessa.ua
SUMMARY:«Ваш А. Чехов» Public talk c Ганною Божко до 160-річчя письменника
DESCRIPTION:11 лютого в 16:00 в Золотому залі Одеського літературного музею відбудеться public talk c провідним  науковим  співробітником ОЛМ Ганною Божко присвячена виставці до 160-річчя від дня народження великого письменника «Ваш А. Чехов». Public talk відбудеться в рамках виїзного засідання секції книги при Одеському Будинку вчених. \nАнтон Павлович Чехов (17 (29) січня 1860\, Таганрог\, Катеринославська губернія (зараз Ростовська область) – 2 (15) липня 1904 Баденвайлер\, Німецька імперія) – російський письменник\, прозаїк\, драматург. \nКласик світової літератури. За професією лікар. Почесний академік Імператорської Академії наук по розряду красного письменства (1900-1902). Один з найвідоміших драматургів світу. Його твори перекладені більш ніж на 100 мов. Його п’єси\, особливо «Чайка»\, «Три сестри» і «Вишневий сад»\, на протязі більше 100 років ставляться в багатьох театрах світу. \nЗа 25 років творчості Чехов створив більше 500 різних творів (коротких гумористичних оповідань\, серйозних повістей\, п’єс)\, багато з яких стали класикою світової літератури. Особливу увагу звернули на себе «Степ»\, «Нудна історія»\, «Дуель»\, «Палата № 6»\, «Розповідь невідомої людини»\, «Мужики»\, «Людина у футлярі»\, «В яру»\, «Дітвора»\, «Драма на полюванні»; з п’єс: «Іванов»\, «Чайка»\, «Дядя Ваня»\, «Три сестри»\, «Вишневий сад». \nОдеса займала чимале місце в житті і творчості Чехова. Саме сюди прийшов пароплав «Петербург» восени 1890\, на якому письменник повернувся з тяжкої подорожі на Сахалін. Тут він познайомився з Ігнатієм Потапенко\, який став одним з найближчих друзів Антона Павловича. Можливо\, саме тут в 1901 році доля подарувала йому багато подробиць сюжету «Вишневого саду» … А перше знайомство з Одесою відбулося влітку 1889\, коли Чехов з братом Іваном приїхав сюди з Сум розвіяти тугу після смерті «кашляючого художника» – талановитого брата Миколи. \nЧехов провів дванадцять днів в Одесі поруч з гастролюючою там трупою акторів Малого театру. Ніколи ще в його житті не було періоду такого тісного і щоденного спілкування з акторської братією\, як в ті липневі дні. Ці дні докладно описані в нарисі найстарішого історика театру А.Я. Альтшуллера. Покликав його туди прем’єр трупи\, відомий артист Малого театру Олександр Павлович Ленський – новий приятель. \n29 січня цього року виповнюється 160 років від дня народження великого письменника. В Одеському Літературному музеї\, в вшанування  пам’ятної дати\, відкрито виставку «Ваш А. Чехов»\, на якій представлені прижиттєві видання та рукописи письменника.
URL:https://museum-literature.odessa.ua/events/vash-a-chehov-public-talk-c-gannoyu-bozhko-do-160-richchya-pysmennyka/
ATTACH;FMTTYPE=image/jpeg:https://museum-literature.odessa.ua/wp-content/uploads/2020/02/chehov.jpg
END:VEVENT
END:VCALENDAR