BEGIN:VCALENDAR
VERSION:2.0
PRODID:-//Одеський літературний музей - ECPv5.4.0.2//NONSGML v1.0//EN
CALSCALE:GREGORIAN
METHOD:PUBLISH
X-WR-CALNAME:Одеський літературний музей
X-ORIGINAL-URL:https://museum-literature.odessa.ua
X-WR-CALDESC:Події за Одеський літературний музей
BEGIN:VTIMEZONE
TZID:Australia/Adelaide
BEGIN:STANDARD
TZOFFSETFROM:+1030
TZOFFSETTO:+0930
TZNAME:ACST
DTSTART:20250405T163000
END:STANDARD
BEGIN:DAYLIGHT
TZOFFSETFROM:+0930
TZOFFSETTO:+1030
TZNAME:ACDT
DTSTART:20251004T163000
END:DAYLIGHT
END:VTIMEZONE
BEGIN:VEVENT
DTSTART;TZID=Australia/Adelaide:20250831T160000
DTEND;TZID=Australia/Adelaide:20250831T170000
DTSTAMP:20260422T153954
CREATED:20250827T120042Z
LAST-MODIFIED:20250827T120042Z
UID:39880-1756656000-1756659600@museum-literature.odessa.ua
SUMMARY:"Вчитися - значить зростати" літературно-музичний вечір у межах проєкту "Недільні зустрічі"
DESCRIPTION:Вчитися – значить зростати (Г. Сковорода) \n  \nЛюбі друзі\, ми знову\, після тривалої перерви\, запрошуємо вас на наш літературно-музичний вечір “Вчитися – значить зростати” (Г. Сковорода) у рамках проєкту “Недільні зустрічі”\, який відбудеться 31 серпня о 16:00 у галереї Одеського Літературного музею. \n  \nНаш вечір присвячений на цей раз дню Знань\, який традиційно святкується 1 го вересня. 1-го вересня учні сядуть за свої парти у шкільних кабінетах\, студенти почнуть навчання у вишах та технікумах\, але на наш погляд ми всі учні\, незалежно від віку. Кожен з нас – це учень у школі життя\, який кожен день добуває нові знання та отримує від життя уроки. І це триває всі роки\, які нам відпущені Богом. І наша головна задача – увесь час зростати\, розвиватися\, як особистість\, розкрити увесь потенціал\, закладений у нас спочатку. \nПро це сьогодні почитають вам свої вірші одеські поети: Клариса Ярошевич\, Інна Саврасова\, Наіль Муратов\, Костянтин Ільницький\, Анна Маліцька\, Людмила Шарга\, Тетяна Партіна\, Владислава Ільїнська\, Олександр Хінт\, Анна Стремінська. Ліка Кузнецова виконає для вас українську пісню\, а композитор Ірина Ярошевич свої фортепіанні композиції. \n  \nДЕ: вул. Ланжеронівська\, 2\nКОЛИ: 31 серпня о 16:00 \nВХІД ВІЛЬНИЙ \nПодробиці за номером +38 (048) 722-33-70 \n 
URL:https://museum-literature.odessa.ua/events/vchitisya-znachit-zrostati-literaturno-muzichnij-vechir-u-mezhah-proyektu-nedilni-zustrichi/
ATTACH;FMTTYPE=image/jpeg:https://museum-literature.odessa.ua/wp-content/uploads/2025/08/Vchitisya-znachit-zrostati-sajt.jpg
END:VEVENT
END:VCALENDAR