BEGIN:VCALENDAR
VERSION:2.0
PRODID:-//Одеський літературний музей - ECPv5.4.0.2//NONSGML v1.0//EN
CALSCALE:GREGORIAN
METHOD:PUBLISH
X-WR-CALNAME:Одеський літературний музей
X-ORIGINAL-URL:https://museum-literature.odessa.ua
X-WR-CALDESC:Події за Одеський літературний музей
BEGIN:VTIMEZONE
TZID:Europe/Kiev
BEGIN:DAYLIGHT
TZOFFSETFROM:+0200
TZOFFSETTO:+0300
TZNAME:EEST
DTSTART:20210328T010000
END:DAYLIGHT
BEGIN:STANDARD
TZOFFSETFROM:+0300
TZOFFSETTO:+0200
TZNAME:EET
DTSTART:20211031T010000
END:STANDARD
END:VTIMEZONE
BEGIN:VEVENT
DTSTART;TZID=Europe/Kiev:20210509T100000
DTEND;TZID=Europe/Kiev:20210905T170000
DTSTAMP:20260422T092300
CREATED:20210511T115243Z
LAST-MODIFIED:20210730T130538Z
UID:27834-1620554400-1630861200@museum-literature.odessa.ua
SUMMARY:Виставка «Видання 1941-1945 рр. з фондів ОЛМ ». До Дня Перемоги над нацизмом
DESCRIPTION:Книга – це не просто розказана і надрукована історія. Вона є основним\, а часом і єдиним джерелом інформації\, здатним відобразити епоху\, час і долю країни і людини. \nНа виставці «Видання 1941-1945 рр. з фондів ОЛМ»\, приуроченій до Дня Перемоги над нацизмом\, ми показуємо роль книги в період Другої світової війни. Всього в музейній колекції зберігається понад чотирьох сотень книг\, виданих в період воєнного лихоліття. Найцікавіші з них представлені нами на виставці.Час війни трагічний і багатогранний і тому на виставці ви можете побачити книги\, що відображають як героїчну боротьбу народу з фашизмом\, так і похмурий період окупації\, книги наших одеських авторів\, видання з бібліотеки червоноармійця. \nВійна ставить людину в екстремальні для виживання умови. Вона змушує відкладати на потім всі звичні нашому серцю прояви життя\, залишаючи тільки найнеобхідніше\, але попри все людина (поет\, письменник) продовжує любити\, писати вірші\, прозу та публікувати їх. На наш погляд\, видання воєнних років\, сам факт їх існування\, наочно доводять\, наскільки важлива і значна роль літератури в житті людини. \nЗапрошуємо всіх\, хто цікавиться темою! \nТакож хочемо запросити на безкоштовні екскурсії по виставки «Видання 1941-1945 рр. з фондів ОЛМ»\, які відбудуться в неділю\, 9 травня о 12:00 та 15:00. \n\nМИКОЛА БАЖАН \nКлятва \nВ нас клятва єдина і воля єдина\, \nЄдиний в нас клич і порив: \nНіколи\, ніколи не буде Вкраїна \nРабою німецьких катів! \n  \nПОЩАДИ ПСАМ НЕМА! \nВони до нас підкрались крадькома\, \nСкажені звірі і отруйні гади. \nТак згиньте ж\, пси\, – пощади вам нема\, \nНема пощади!.. \n  \nПо наших землях не блукати псам\, \nХижацькому поріддю вбивства й зради. \nТремтить же\, пси\, – нема пощади вам\, \nНема пощади! \n  \nБІЛЯ ХАТИ \nДим бушував на золотому полі\, \nНімотний дим. Великий степ горів. \nВона стояла в димнім ореолі\, \nСтара і мудра матір матерів. \n  \nТаїлись в тьмі її старечих рис\, \nПокручених і зморщених\, мов корінь\, \nСліди столітніх виснажень і зморень\, \nТрудів\, турбот\, трудного поту й сліз. \n  \nВона дивилась\, нерухома й владна\, \nЦіну сльозам пізнавши за свій вік\, \nІ тільки очі\, мов криваві садна\, \nСочились спід роз`ятряних повік. \n  \nІ так стояла\, склавши чорні руки \nНа грудях\, всохлих як старі плоди\, \nУ дверях хати\, на порозі муки\, \nНад прірвою незмірної біди.
URL:https://museum-literature.odessa.ua/events/vistavka-vidannya-1941-1945-rr-z-fondiv-olm-do-dnya-peremogi-nad-natsizmom/
LOCATION:Одеський літературній музей\, вул. Ланжеронівська \, 2\, м. Одеса\, Україна
ATTACH;FMTTYPE=image/jpeg:https://museum-literature.odessa.ua/wp-content/uploads/2021/05/183547566_946577582827763_6201514989618538674_n.jpg
END:VEVENT
END:VCALENDAR