BEGIN:VCALENDAR
VERSION:2.0
PRODID:-//Одеський літературний музей - ECPv5.4.0.2//NONSGML v1.0//EN
CALSCALE:GREGORIAN
METHOD:PUBLISH
X-WR-CALNAME:Одеський літературний музей
X-ORIGINAL-URL:https://museum-literature.odessa.ua
X-WR-CALDESC:Події за Одеський літературний музей
BEGIN:VTIMEZONE
TZID:Europe/Kiev
BEGIN:DAYLIGHT
TZOFFSETFROM:+0200
TZOFFSETTO:+0300
TZNAME:EEST
DTSTART:20220327T010000
END:DAYLIGHT
BEGIN:STANDARD
TZOFFSETFROM:+0300
TZOFFSETTO:+0200
TZNAME:EET
DTSTART:20221030T010000
END:STANDARD
END:VTIMEZONE
BEGIN:VEVENT
DTSTART;TZID=Europe/Kiev:20221126T140000
DTEND;TZID=Europe/Kiev:20221126T170000
DTSTAMP:20260422T010532
CREATED:20221120T144424Z
LAST-MODIFIED:20221125T153132Z
UID:34176-1669471200-1669482000@museum-literature.odessa.ua
SUMMARY:«ВСЕСВIТ ВЕРДI» концерт класичної музики
DESCRIPTION:Дорогi друзi! \nКоли на вулицi вже так прохолодно та цілковито панує осiнь\, найкращій способ зігрітись – прийти на концерт та поринути разом з нами у вир музики. Тож\, цієї суботи\, 26 листопада о 14:00 ми запрошуємо вас у яскравий вимiр – «ВСЕСВIТ ВЕРДI»\, де вирують справжнi  палкi почуття та пристрасті. \nСолiсти концерту – майстри провiдних сцен свiту: Метрополiтен Опера\, Ковен Гарден\, Берлiнського Дойче Опер\, Одеського театру Опери та Балету подарують своє мистецтво одеськiй публицi. \nВ Одеському Літературному музеї\, ви наш любий глядач\, разом з нашими солістами\, поринете у чарiвний свiт КОРОЛЯ ОПЕРИ – ДЖУЗЕППЕ ВЕРДI! \nПриходьте! Ми чекаємо на Вас! \n  \nКОЛИ: 26 листопада о 14:00 \nДЕ: Одеський літературний музей\, вул. Ланжеронівська\, 2 \n 
URL:https://museum-literature.odessa.ua/events/vsesvit-verdi-kontsert-klasichnoyi-muziki/
LOCATION:Одеський літературній музей\, вул. Ланжеронівська \, 2\, м. Одеса\, Україна
ATTACH;FMTTYPE=image/jpeg:https://museum-literature.odessa.ua/wp-content/uploads/2022/11/IMG-d34b7e7a98c098c6f77abf4969df21be-V.jpg
END:VEVENT
END:VCALENDAR