BEGIN:VCALENDAR
VERSION:2.0
PRODID:-//Одеський літературний музей - ECPv5.4.0.2//NONSGML v1.0//EN
CALSCALE:GREGORIAN
METHOD:PUBLISH
X-WR-CALNAME:Одеський літературний музей
X-ORIGINAL-URL:https://museum-literature.odessa.ua
X-WR-CALDESC:Події за Одеський літературний музей
BEGIN:VTIMEZONE
TZID:Europe/Kiev
BEGIN:DAYLIGHT
TZOFFSETFROM:+0200
TZOFFSETTO:+0300
TZNAME:EEST
DTSTART:20210328T010000
END:DAYLIGHT
BEGIN:STANDARD
TZOFFSETFROM:+0300
TZOFFSETTO:+0200
TZNAME:EET
DTSTART:20211031T010000
END:STANDARD
END:VTIMEZONE
BEGIN:VEVENT
DTSTART;TZID=Europe/Kiev:20210225T143000
DTEND;TZID=Europe/Kiev:20210823T170000
DTSTAMP:20260422T113557
CREATED:20210226T104714Z
LAST-MODIFIED:20210827T121337Z
UID:26535-1614263400-1629738000@museum-literature.odessa.ua
SUMMARY:Виставка «Я жива\, я буду вічно жити!»
DESCRIPTION:25 лютого 2021 року о 14:30 в Золотій залі Одеського літературного музею відбудеться відкриття виставки «Я жива\, я буду вічно жити!»\, присвяченої 150-річчю від дня народження славетної української письменниці Лесі Українки. \nНа виставці представлені прижиттєві видання творів Лесі Українки\, оригінальні фотографії родини М.Ф.Комарових\, яка дружньо зустрічала молоду поетку в Одесі\, та рукописи спогадів про її перебування в нашому місті. \nОдеські враження лягли в основу поетичного циклу «Подорож до моря» (1888 р.)\, в якому письменниця  натхненно оспівувала вперше побачену морську стихію\, що назавжди полонила її поетичну душу. Найбільше враження справила на юну поетесу мандрівка морем до Аккерманської фортеці\,  яка уособлювала для Лесі сторінку з героїчної історії України. Відвідинам фортеці  присвячено поезію „Ой високо сонце в яснім небі стало…»\,  яка власне  являє собою історичну баладу\,  несе особливе ідейне і сюжетне навантаження. \nВиставку прикрашають акварельні роботи Аккерманської фортеці народних художників України Галини та Анатолія Кравченка та їх доньок художниць Ольги  і  Вікторії. \nЮвілею Лесі Українки присвячено літературно-мистецьке свято: концерт  ММЦ «Орфей»\, поетичні виступи. \n  \nВиставка діє до 1 липня. \nЕкскурсію по виставці замовляйте за телефоном (048) 722-33-70
URL:https://museum-literature.odessa.ua/events/vystavka-ya-zhyva-ya-budu-vichno-zhyty/
LOCATION:Одеський літературній музей\, вул. Ланжеронівська \, 2\, м. Одеса\, Україна
ATTACH;FMTTYPE=image/jpeg:https://museum-literature.odessa.ua/wp-content/uploads/2021/02/154514583_1844746802345887_3598890862587855683_n.jpg
END:VEVENT
END:VCALENDAR