BEGIN:VCALENDAR
VERSION:2.0
PRODID:-//Одеський літературний музей - ECPv5.4.0.2//NONSGML v1.0//EN
CALSCALE:GREGORIAN
METHOD:PUBLISH
X-WR-CALNAME:Одеський літературний музей
X-ORIGINAL-URL:https://museum-literature.odessa.ua
X-WR-CALDESC:Події за Одеський літературний музей
BEGIN:VTIMEZONE
TZID:Europe/Kiev
BEGIN:DAYLIGHT
TZOFFSETFROM:+0200
TZOFFSETTO:+0300
TZNAME:EEST
DTSTART:20230326T010000
END:DAYLIGHT
BEGIN:STANDARD
TZOFFSETFROM:+0300
TZOFFSETTO:+0200
TZNAME:EET
DTSTART:20231029T010000
END:STANDARD
END:VTIMEZONE
BEGIN:VEVENT
DTSTART;TZID=Europe/Kiev:20230410T140000
DTEND;TZID=Europe/Kiev:20230410T160000
DTSTAMP:20260421T152933
CREATED:20230405T105730Z
LAST-MODIFIED:20230405T105730Z
UID:34888-1681135200-1681142400@museum-literature.odessa.ua
SUMMARY:«Я серцем відчуваю Україну» творчий поетично-музичний вечір Святослава Огренчука
DESCRIPTION:Одеський літературний музей презентує творчий поетично-музичний вечір Святослава Огренчука\n«Я серцем відчуваю Україну»\n\n«Усміхнись життю ‒ й воно усміхнеться у відповідь\, полюби його – й воно відповість взаємністю».\nСвятослав Огренчук\n\n10 квітня\, у понеділок\, о 14:00 Одеський літературний музей запрошує на творчий музично-поетичний вечір Святослава Огренчука\, на якому відбудеться презентація книги «Я серцем відчуваю Україну».\nПоетично – музичний вечір Святослава Огренчука знайомить одеситів з його першою збіркою поезії\, яка об’єднана духовно-тематично – гарячою любов’ю до України\, її народу\, минулого та сучасного\, її історії. Святослав Огренчук – відомий політик\, громадський діяч\, журналіст – зазначає: «В своєї дорозі й боротьбі своїй я зустрів Україну й полюбив її. Усім серцем\, усім єством своїм. Я відчуваю\, що моя доля дуже схожа з долею України. Це нескінченна боротьба духовної сили й краси з мороком\, зневірою та заздрістю; вічна боротьба добра зі злом.\n\nПро автора:\nСвятослав Огренчук народився 25 лютого 1978 року в місті Одесі.\nЗакінчив Почаївську духовну семінарію\, і Одеську національну юридичну академію\, а згодом і Київську духовну академію.\nЗ 2008 року займається активною громадською та політичною діяльністю.\nЗ 2014 року – член Національної спілки журналістів.\n25 жовтня 2020 року став депутатом І скликання одеської районної ради.
URL:https://museum-literature.odessa.ua/events/ya-sertsem-vidchuvayu-ukrayinu-tvorchij-poetichno-muzichnij-vechir-svyatoslava-ogrenchuka/
LOCATION:Одеський літературній музей\, вул. Ланжеронівська \, 2\, м. Одеса\, Україна
ATTACH;FMTTYPE=image/jpeg:https://museum-literature.odessa.ua/wp-content/uploads/2023/04/photo_2023-03-29_15-34-03.jpg
END:VEVENT
END:VCALENDAR