BEGIN:VCALENDAR
VERSION:2.0
PRODID:-//Одеський літературний музей - ECPv5.4.0.2//NONSGML v1.0//EN
CALSCALE:GREGORIAN
METHOD:PUBLISH
X-WR-CALNAME:Одеський літературний музей
X-ORIGINAL-URL:https://museum-literature.odessa.ua
X-WR-CALDESC:Події за Одеський літературний музей
BEGIN:VTIMEZONE
TZID:UTC
BEGIN:STANDARD
TZOFFSETFROM:+0000
TZOFFSETTO:+0000
TZNAME:UTC
DTSTART:20190101T000000
END:STANDARD
END:VTIMEZONE
BEGIN:VEVENT
DTSTART;TZID=UTC:20190604T100000
DTEND;TZID=UTC:20190616T170000
DTSTAMP:20260421T232836
CREATED:20190604T180812Z
LAST-MODIFIED:20190604T183219Z
UID:17352-1559642400-1560704400@museum-literature.odessa.ua
SUMMARY:Ювілейна виставка художника Віктора Цапка
DESCRIPTION:У виставкових залах Одеського літературного музею\, відкрита виставка малярства\, українського художника — ВІКТОРА ЦАПКА.\n\nЗапрошуються шанувальники українського сучасного мистецтва\, одесити та гості Одеси. \nВіктор Цапко народився на Херсонщині у 1956 році в селі Вехні-Сірогози. Дитячи та юнацьки роки пройшли в селі на Хмельниччині в селі Волиця-Польова. Початкову професійну підготовку отримав у Херсоні (10-місячні курси художника- оформлювача). Працював у студії у Будинку культури та художником на художньому комбінаті. \nУ 1979 році вступив до Одеського державного художнього училища ім. Грекова\, яке закінчив з відзнакою  (педагог з фаху Криштопенко В. В.). Отримав направлення на художньо-оформлювальний комбінат  (1983-1986). З 1986 року жив у Санкт-Петербурзі\, де продовжив студіюванні у народній студії Василя Суворова. Почав брати участь у виставках. З 1991 року – у складі братства «Кобзар». \nПерша виставка за кордоном відбулася у 1996 році в галереї КУМФ (Торонто). З 1998 по 2006 жив у Канаді (Торонто)\, де відбулося 5 персональних виставок і багато колективних. \nЗараз живе і працює у Полтаві\, в селі великий Перевіз. \n\n\n\n\n\n\n\n\n\n\n\n\n\n\n\n\n	Виставка діє до 16 червня.\n\n	Квитки у касі музею.
URL:https://museum-literature.odessa.ua/events/yuvilejna-vystavka-hudozhnyka-viktora-czapka/
CATEGORIES:Музей
ATTACH;FMTTYPE=image/jpeg:https://museum-literature.odessa.ua/wp-content/uploads/2019/06/csapko-2.jpg
END:VEVENT
END:VCALENDAR