BEGIN:VCALENDAR
VERSION:2.0
PRODID:-//Одеський літературний музей - ECPv5.4.0.2//NONSGML v1.0//EN
CALSCALE:GREGORIAN
METHOD:PUBLISH
X-WR-CALNAME:Одеський літературний музей
X-ORIGINAL-URL:https://museum-literature.odessa.ua/ru/
X-WR-CALDESC:События для Одеський літературний музей
BEGIN:VTIMEZONE
TZID:UTC
BEGIN:STANDARD
TZOFFSETFROM:+0000
TZOFFSETTO:+0000
TZNAME:UTC
DTSTART:20190101T000000
END:STANDARD
END:VTIMEZONE
BEGIN:VEVENT
DTSTART;VALUE=DATE:20190216
DTEND;VALUE=DATE:20190714
DTSTAMP:20260421T232224
CREATED:20190611T142152Z
LAST-MODIFIED:20190711T203053Z
UID:17993-1550275200-1563062399@museum-literature.odessa.ua
SUMMARY:Авторские вечера Елены Каракиной «Поговорим о странностях любви»
DESCRIPTION:Одесский литературный музей возобновляет проект «Поговорим о странностях любви» с Еленой Каракиной\n\nВ свое время одноименная телепрограмма смогла получить любовь широкой аудитории\, и теперь Литературный музей предлагает ее в измененном формате открытого разговора: непосредственного и живого общения. Как и раньше речь пойдет о влюбленности и любовь служителей муз и о музах\, что их вдохновляли. О писателях и писательницах\, поэтов и поэтесс. Об их судьбе и их книгах.\nКонечно\, встреча в музее продлится дольше телевизионной. \nДавайте поговорим о странностях любви .. и не только о них.\nПо субботам\, в Одесском литературном музее. \n16 февраля  «Влюблённый Валентин. Влюбленный в Валентину». Пристрастия и страсти\nбратьев Катаевых. \n16 марта «Мой псевдоним и жизнь моя — «Качели». Поэт и воин Владимир Жаботинский \n20 апреля «Тайны «Золотого ключика»».  А.Н. Толстой\, литературная расправа и расплата. \n18 мая «Три сестры. Не по Чехову». Сёстры Суок — жёны и прототипы. \n15 июня «Одесские связи».  А. С. Пушкин и три влюбленности в Одессе. \n13 июля «Они женятся\, чтобы не быть одинокими…».  Исаак Бабель\, который не мог быть не\nженат. \nПремьера проекта состоится 16 февраля 2019 в 16: 00 во дворце князей Гагариных\, Ланжероновская\, 2. \nС Одесского литературного музея с любовью \n\n\n\n\n\n\n\n\n\n\n\n\n\n\n\n\n	Билеты в кассе музея.
URL:https://museum-literature.odessa.ua/ru/events/avtorskye-vechera-eleny-karakynoj-pogovorym-o-strannostyah-lyubvy/
ATTACH;FMTTYPE=image/jpeg:https://museum-literature.odessa.ua/wp-content/uploads/2019/05/avtorski-vechory-oleny-karakinoyi-ru.jpg
END:VEVENT
END:VCALENDAR