BEGIN:VCALENDAR
VERSION:2.0
PRODID:-//Одеський літературний музей - ECPv5.4.0.2//NONSGML v1.0//EN
CALSCALE:GREGORIAN
METHOD:PUBLISH
X-WR-CALNAME:Одеський літературний музей
X-ORIGINAL-URL:https://museum-literature.odessa.ua/ru/
X-WR-CALDESC:События для Одеський літературний музей
BEGIN:VTIMEZONE
TZID:Europe/Kiev
BEGIN:DAYLIGHT
TZOFFSETFROM:+0200
TZOFFSETTO:+0300
TZNAME:EEST
DTSTART:20200329T010000
END:DAYLIGHT
BEGIN:STANDARD
TZOFFSETFROM:+0300
TZOFFSETTO:+0200
TZNAME:EET
DTSTART:20201025T010000
END:STANDARD
END:VTIMEZONE
BEGIN:VEVENT
DTSTART;TZID=Europe/Kiev:20200606T120000
DTEND;TZID=Europe/Kiev:20200606T170000
DTSTAMP:20260421T125741
CREATED:20200603T104627Z
LAST-MODIFIED:20200603T105126Z
UID:22865-1591444800-1591462800@museum-literature.odessa.ua
SUMMARY:День рождения Поэта
DESCRIPTION:Совсем скоро\, 6 июня\, исполнится 221 год со дня рождения великого поэта и писателя Александра Сергеевича Пушкина! \nПочтить память известного поэта\, деятельность которого связана с Одессой\, жители Южной Пальмиры смогут приняв участие в торжественной церемонии возложения цветов к памятку и чтением стихов. Возложения цветов к памятнику Александру Пушкину состоится 6 июня в 12:00\, на Думской площади Одессы. \nНачало праздничных мероприятий назначено на полдень. Но это отнюдь не конец программы: Одесский литературный музей (ул. Ланжероновская\,2) приглашают интересующихся литературой и одесситкой посетить специальную тематическую экскурсию: \n13:00 – «Шум\, споры – лёгкое вино» — одесская жизнь Поэта\n15:00 – «Шум\, споры – лёгкое вино» — одесская жизнь Поэта \nА также\, мемориальный музей А.С. Пушкина (ул. Пушкинская\,13) ждет всех желающий в гости на день открытых дверей! \nЯ жил тогда в Одессе пыльной:\nТам долго ясны небеса\,\nТам хлопотливо торг обильный\nСвои подъемлет паруса;\nТам все Европой дышит\, веет\,\nВсе блещет югом и пестреет\nРазнообразностью живой.\nЯзык Италии златой\nЗвучит по улице веселой\,\nГде ходит гордый славянин\,\nФранцуз\, испанец\, армянин\,\nИ грек\, и молдаван тяжелый\,\nИ сын египетской земли\,\nКорсар в отставке\, Морали. \n(А.С. Пушкин. «Евгений Онегин»)
URL:https://museum-literature.odessa.ua/ru/events/den-rozhdenyya-poeta/
LOCATION:Одесский литературный музей\, ул. Ланжероновская\, 2\, г. Одесса\, Украина
ATTACH;FMTTYPE=image/jpeg:https://museum-literature.odessa.ua/wp-content/uploads/2020/06/pushkin2.jpg
END:VEVENT
END:VCALENDAR