BEGIN:VCALENDAR
VERSION:2.0
PRODID:-//Одеський літературний музей - ECPv5.4.0.2//NONSGML v1.0//EN
CALSCALE:GREGORIAN
METHOD:PUBLISH
X-WR-CALNAME:Одеський літературний музей
X-ORIGINAL-URL:https://museum-literature.odessa.ua/ru/
X-WR-CALDESC:События для Одеський літературний музей
BEGIN:VTIMEZONE
TZID:UTC
BEGIN:STANDARD
TZOFFSETFROM:+0000
TZOFFSETTO:+0000
TZNAME:UTC
DTSTART:20190101T000000
END:STANDARD
END:VTIMEZONE
BEGIN:VEVENT
DTSTART;VALUE=DATE:20190924
DTEND;VALUE=DATE:20191009
DTSTAMP:20260421T185313
CREATED:20190917T095904Z
LAST-MODIFIED:20190917T095904Z
UID:19522-1569283200-1570579199@museum-literature.odessa.ua
SUMMARY:Художественная выставка  «Сотворим мир на своей земле»
DESCRIPTION:нашим родителям посвящается «Скажи: есть память обо мне\, есть в мире сердце\, где живу я …» «Скажи: есть память обо мне\, есть в мире сердце\, где живу я …»\n\nОльга Котлярова-Прокопенко Заслуженный художник Украины\, Татьяна Бродецкая Заслуженный художник Украины\, Нинель Котлярова /02.05.1926-07.04.1993/ Заслуженный мастер народного творчества УССР\, Луиза Котлярова – Луиза Щербакова\, Татьяна Бродецкая\,\nОльга Чайка (Бродецкая)\,\nВиктория Бродецкая.\nживопись\, графика\, декоративно-прикладное искусство\, фото \n\n\n\n\n\n\n\n\n\n\n\n\n\n\n\n\n24 сентября в 15:00 в зале галереи Одесского литературного музея состоится торжественное открытие выставки «Сотворим мир на своей земле»  к 25-летию Авторского художественного семейного проекта «Преемственность поколений» 1994-2019 (традиционные семейные ценности\, постоянство\, уважение к традициям\, чувство долга и ответственности в семье.)  при поддержке Одесского областного Совета Мира \nПреемственность поколений – один из самых важных феноменов в жизни общества\, поскольку благодаря ему сберегается прошлое\, сохраняется целостность социума\, определяется вектор его дальнейшего развития\, поддерживается идентичность социальных групп.                                                                                                                   \nЧеловек\, только как представитель поколения\, обретает связь с историей\, становится осознанным  участником исторического процесса.  \nПреемственность поколений – это важный фактор\, влияющий на развитие человечества.  От того\, насколько удачно старшим членам общества  удается передать детям накопленные знания\, умения и навыки\, зависит успешность сообщества. Такая передача позволяет выходить за границы развития конкретного человека\, установленные краткостью  человеческой жизни. Каждое новое поколение имеет возможность использовать уровень развития\, достигнутый прошлыми поколениями. И этот уровень становится некоей стартовой точкой\, основой для дальнейшего развития\, для дальнейших достижений\,  которые в свою очередь будут переданы детям и внукам.  Ведь только от нас зависит\, какое будущее ждет наших детей. Преемственность культуры является закономерностью исторического развития. Она реализуется в динамичной и последовательной смене поколений. Каждое поколение имеет свои особенности: ценности и духовный облик\, жизненный опыт и отношение к событиям эпохи. Оно усваивает достигнутый уровень развития и на этой основе становится инициатором преобразований\, способствующих продвижению вперед.             \nЭти две стороны взаимосвязи поколений – освоение культурного наследия и новаторство – образуют основу исторического развития культуры. Трансляция культуры является всеобщим законом\, определяющим единство человечества.                         \nВыставки проекта «Преемственность поколений» 1994-2019: \n1994     Одесса. Выставка-память Заслуженного мастера народного творчества УССР Н.Н.Котляровой\, Одесский Дом народного творчества. \n1996 Одесса. Выставка – память. К 70-летию со Дня рождения Нинель Николаевны Котляровой\, Галерея «на Уютной». \n1998 Одесса. Программа «Золотые мастера Одессы» Выставка «Спаси и сохрани»\, галерея «Вернисаж».  \n2001 Одесса. «Памяти нашей мамы посвящается» К 75-летию со Дня рождения Н.Н.Котляровой «галерея Вернисаж»\, Камерный зал Одесской Государственной филармонии. (Грамота за выдающийся вклад в искусство Украины). \n2006 Одесса. Выставка – память. Посвященная 80-летию со Дня рождения заслуженного мастера народного творчества УССР Нинель Николаевны Котляровой «Одна мелодия на три голоса» Н.Н. Котлярова\, О.Ю. Котлярова–Прокопенко\, Т.С. Бродецкая\, Всеукраинский центр болгарской культуры (Каталог).            \n2006 Одесса. «Одесса акварельная». Выставка творів одеських митців. Одеський музей західного та східного мистецтв. (Каталог. Надрукована «Біля млину»\, 1972\, папір\, акв. 15×20). \n2009 Краматорськ. «Одна країна – дві родини» Художня виставка\, живопис\, графіка\, скульптура. Котлярова Н.М.\, Котлярова–Прокопенко О.Ю.\, Прокопенко М.М.\, Бродецька Т.С. – місто Одеса і Дерегус М.Т.\, Дерегус – Лоренс Н.М.\, Дерегус М.М. – город Київ. Краматорський художній музей. \n2011     Одесса. Персональная выставка-память «Листвы осенняя соната» Посвещённая 85-летию со Дня рождения заслуженного мастера народного творчества УССР Нинель Николаевны Котляровой\, Одесский Дом-музей имени Н.К.Рериха./Каталог/. \n2012     Измаил. Персональная семейная выставка «Соната в трёх частях» в проекте «Преемственность поколений» Нинель Котлярова – заслуженный мастер народного творчества УССР\, Ольга Котлярова-Прокопенко – заслуженный художник Украины\, Татьяна Бродецкая – член НСХУ. /Посвящается памяти моего отца Юрия Викторовича Котлярова./\, Измаильская картинная галерея. \n2013     Одесса.  Памяти наших родителей посвящается \,\,Скажи: есть память обо мне\, есть в мире сердце\, где живу я… \,\,  «Летим касаясь крылами»  три персональные выставки в проекте «Преемственность поколений» Нинель Котлярова /02.05.1926 – 07.04.1993/ – заслуженный мастер народного творчества УССР\, Ольга Котлярова-Прокопенко – заслуженный художник Украины\, Татьяна Бродецкая – член НСХУ\, Одесский Государственный литературный музей. \n2013     Ильичевск.  Памяти наших родителей посвящается \,\,Скажи: есть память обо мне\, есть в мире сердце\, где живу я …\,\, Персональная семейная выставка «Под знаком сотворения» в проекте «Преемственность поколений» Нинель Котлярова /02.05.1926-07.04.1993/ – заслуженный мастер народного творчества УССР\, Ольга Котлярова-Прокопенко – заслуженный художник Украины\, Таьяна Бродецкая – член НСХУ\, Ильичёвский музей изобразительных искусств им.А.Белого. \n2018     Одесса. К 50-летию Одесского областного Совета мира\, посвящается памяти Нинель Николаевне Котляровой. Персональная семейная выставка «Одна мелодия на три голоса» в художественном проекте «Преемственность поколений»: заслуженный мастер народного творчества УССР Нинель Котлярова\, заслуженный  художник Украины Ольга Котлярова-Прокопенко\, заслуженный художник Украины Татьяна Бродецкая. Живопись\, графика\, декоративно-прикладное искусство\, фото и видео материалы. Дом ученых. \n2019    Одесса. К 25-летию Авторского художественного семейного проекта «Преемственность поколений» 1994-2019\, художественная выставка «Сотворим мир на своей земле» —  нашим родителям посвящается. \n\nВыставка действует с 24.09.19 по 8.10.19 \nТоржественное открытие состоится 24 сентября в 15:00\, вход свободный.   
URL:https://museum-literature.odessa.ua/ru/events/hudozhestvennaya-vystavka-sotvorym-myr-na-svoej-zemle/
CATEGORIES:Музей
ATTACH;FMTTYPE=image/jpeg:https://museum-literature.odessa.ua/wp-content/uploads/2019/09/hudozhnya-vystavka-stvorymo-myr-na-svoyij-zemli-1.jpg
END:VEVENT
END:VCALENDAR