BEGIN:VCALENDAR
VERSION:2.0
PRODID:-//Одеський літературний музей - ECPv5.4.0.2//NONSGML v1.0//EN
CALSCALE:GREGORIAN
METHOD:PUBLISH
X-WR-CALNAME:Одеський літературний музей
X-ORIGINAL-URL:https://museum-literature.odessa.ua/ru/
X-WR-CALDESC:События для Одеський літературний музей
BEGIN:VTIMEZONE
TZID:UTC
BEGIN:STANDARD
TZOFFSETFROM:+0000
TZOFFSETTO:+0000
TZNAME:UTC
DTSTART:20190101T000000
END:STANDARD
END:VTIMEZONE
BEGIN:VEVENT
DTSTART;VALUE=DATE:20190814
DTEND;VALUE=DATE:20190827
DTSTAMP:20260421T202320
CREATED:20190808T194554Z
LAST-MODIFIED:20190814T104840Z
UID:18428-1565740800-1566863999@museum-literature.odessa.ua
SUMMARY:Художественный проект МАМАЙ МАНДРУЄ
DESCRIPTION:14.08.19 — 26.08.19 \nОткрытие 14.08 15:00 \nХудожественный проект «Мамай мандрує» — это культурно-просветительское\, культурологическое\, образовательное мероприятие\, направленное на патриотическое воспитание молодежи и юношества\, изучение страниц истории своей страны\, а также привлечения широких слоев населения к любительского творчества\, содействие возрождению народных традиций и ремесел. \nОбращение к теме «Козака Мамая» не случайно\, ведь образ этого храброго воина в украинском изобразительном и декоративном искусстве занимает выдающееся место. \nЭта популярная в народе картина стала символом для украинцев еще со времен казачества. Сюжет\, посвященный казаку — бандуристу\, был очень распространен в 17-м веке в разгар народных восстаний. Рисовали его изображение на сундуках\, дверях\, занавесках\, ульях. Исследование казацкой тематики современными художниками именно сегодня — это проявление уважения к славному прошлому нашей Родины\, и попытка по-современному представить зрителю удивительного казака -характерника. \nУчастники проекта — мастера\, которые работают в различных техниках: живопись\, графика\, гравюра\, керамика\, вышивка\, флористика. \n  \n\n\n\n\n\n\n\n\n\n\n\n\n\n\n\n\n	БИЛЕТЫ В КАССЕ МУЗЕЯ
URL:https://museum-literature.odessa.ua/ru/events/hudozhestvennyj-proekt-mamaj-mandruye/
ATTACH;FMTTYPE=image/jpeg:https://museum-literature.odessa.ua/wp-content/uploads/2019/08/mystetskyj-proekt-mamaj-mandruye.jpg
END:VEVENT
END:VCALENDAR