BEGIN:VCALENDAR
VERSION:2.0
PRODID:-//Одеський літературний музей - ECPv5.4.0.2//NONSGML v1.0//EN
CALSCALE:GREGORIAN
METHOD:PUBLISH
X-WR-CALNAME:Одеський літературний музей
X-ORIGINAL-URL:https://museum-literature.odessa.ua/ru/
X-WR-CALDESC:События для Одеський літературний музей
BEGIN:VTIMEZONE
TZID:UTC
BEGIN:STANDARD
TZOFFSETFROM:+0000
TZOFFSETTO:+0000
TZNAME:UTC
DTSTART:20190101T000000
END:STANDARD
END:VTIMEZONE
BEGIN:VEVENT
DTSTART;VALUE=DATE:20190924
DTEND;VALUE=DATE:20191012
DTSTAMP:20260421T190456
CREATED:20191009T143950Z
LAST-MODIFIED:20191009T153754Z
UID:19667-1569283200-1570838399@museum-literature.odessa.ua
SUMMARY:Концерты в рамках миротворческой программы "Золотая Осень Мира"
DESCRIPTION:Одесский Литературный Музей приглашает на концерты в рамках ежегодной миротворческой программы «ЗОЛОТАЯ ОСЕНЬ МИРА 2019» \n24 сентября — Золотой Зал Одесского литературного музея\, ул. Ланжероновская\, 2\n3 октября — Золотой Зал Одесского литературного музея\, ул. Ланжероновская\, 2\n9 октября — Золотой Зал Одесского литературного музея\, ул. Ланжероновская\, 2\n11 октября — Мемориальный музей А.С. Пушкина\, ул. Пушкинская\, 13
URL:https://museum-literature.odessa.ua/ru/events/kontserty-v-ramkah-myrotvorcheskoj-programmy-zolotaya-osen-myra/
CATEGORIES:Музей
ATTACH;FMTTYPE=image/jpeg:https://museum-literature.odessa.ua/wp-content/uploads/2019/10/kontserty-v-mezhah-myrotvorchoyi-programy-zolota-osin-myru.jpg
END:VEVENT
END:VCALENDAR