BEGIN:VCALENDAR
VERSION:2.0
PRODID:-//Одеський літературний музей - ECPv5.4.0.2//NONSGML v1.0//EN
CALSCALE:GREGORIAN
METHOD:PUBLISH
X-WR-CALNAME:Одеський літературний музей
X-ORIGINAL-URL:https://museum-literature.odessa.ua/ru/
X-WR-CALDESC:События для Одеський літературний музей
BEGIN:VTIMEZONE
TZID:UTC
BEGIN:STANDARD
TZOFFSETFROM:+0000
TZOFFSETTO:+0000
TZNAME:UTC
DTSTART:20190101T000000
END:STANDARD
END:VTIMEZONE
BEGIN:VEVENT
DTSTART;VALUE=DATE:20191015
DTEND;VALUE=DATE:20191016
DTSTAMP:20260421T185130
CREATED:20191009T143223Z
LAST-MODIFIED:20191009T154157Z
UID:19661-1571097600-1571183999@museum-literature.odessa.ua
SUMMARY:КОЗАЦЬКІ ПОКРОВА
DESCRIPTION:15 октября в 14:00 в золотой зале Одесского литературного музея состоится литературно-музыкальный праздник «Козацькі Покрова»\, посвященный празднованию осенних украинских традиций от древности до современности. \nВ празднике примут участие народный хор «Козацьке коло» (руководитель Лариса Козловская)\, Одесский экономический лицей\, Одесский Юридический лицей\, гимназия № 9\, Одесский региональный институт государственного управления при Президенте Украины\, система городских библиотек для взрослых\, Одесский центр детского и юношеского творчества «Моряна»\, лауреат литературной премии имени Паустовского Светлана Лукина. Праздник состоится при поддержке общественных организаций Фонд «Дружба»\, фонд детских\, юношеских и молодежных конкурсов и Интеллектуальный форум. \nЗрители смогут осмотреть выставку\, посвященную 250-летию со дня рождения отца новой украинской литературы Ивана Петровича Котляревского и выставку «Із забуття – в безсмертя»\, посвященную 200-летию со дня рождения Пантелеймона Кулиша\, автора первого исторического романа о временах украинского казачества «Чорна рада». \nПриглашаем на праздник всех поклонников украинских традиций и культуры. \nВход свободный
URL:https://museum-literature.odessa.ua/ru/events/kozatski-pokrova/
CATEGORIES:Музей
ATTACH;FMTTYPE=image/jpeg:https://museum-literature.odessa.ua/wp-content/uploads/2019/10/kozatski-pokrova.jpg
END:VEVENT
END:VCALENDAR